FILENAME: O4810532.NES.1162654.tif
QUADRANGLE_NAME: PLEASANT PRAIRIE
QUADRANT: NE
WEST_LONGITUDE: -105 3 45.00000
EAST_LONGITUDE: -105 0 0.00000
NORTH_LATITUDE: 48 37 30.00000
SOUTH_LATITUDE: 48 33 45.00000
PRODUCTION_DATE: 2001 9 23
RASTER_ORDER: LEFT_RIGHT/TOP_BOTTOM
BAND_ORGANIZATION: SINGLE FILE
BAND_CONTENT: BLACK&WHITE
BAND_CONTENT: UNDEFINED
BAND_CONTENT: UNDEFINED
BITS_PER_PIXEL: 8
SAMPLES_AND_LINES: 5261 7563
HORIZONTAL_DATUM: NAD83
HORIZONTAL_COORDINATE_SYSTEM: UTM
COORDINATE_ZONE: 13
HORIZONTAL_UNITS: meters
HORIZONTAL_RESOLUTION: 1.00000
SECONDARY_HORIZONTAL_DATUM: NAD27
XY_ORIGIN: 495044.00000 5386080.00000
SECONDARY_XY_ORIGIN: 495083.09000 5385858.29600
NATION: US
STATE: MT
NW_QUAD_CORNER_XY: 495394.37200 5385772.05800
NE_QUAD_CORNER_XY: 500000.00000 5385770.17300
SE_QUAD_CORNERY_XY: 500000.00000 5378822.83700
SW_QUAD_CORNER_XY: 495388.68800 5378824.72300
SECONDARY_NW_QUAD_XY: 495394.22500 5385553.07100
SECONDARY_NE_QUAD_XY: 500000.00000 5385551.18600
SECONDARY_SE_QUAD_XY: 500000.00000 5378603.85700
SECONDARY_SW_QUAD_XY: 495388.54100 5378605.74200
RMSE_XY: 5.19000
IMAGE_SOURCE: BLACK AND WHITE FILM
SOURCE_IMAGE_ID: NAPP 9096-154
SOURCE_IMAGE_DATE: 1996 7 9
SOURCE_DEM_DATE: 1998 0 0
AGENCY: WESTERN MAPPING CENTER (WMC)
PRODUCER: WOOLPERT LLP
PRODUCTION_SYSTEM: INTERGRAPH ISPM, ISIR
COMPRESSION: UNDEFINED
STANDARD_VERSION: 1996 12
METADATA_DATE: 2001 9 23
DATA_FILE_SIZE: 39794204
BYTE_COUNT: 5261
