FILENAME: O4810532.SES.1162656.tif
QUADRANGLE_NAME: PLEASANT PRAIRIE
QUADRANT: SE
WEST_LONGITUDE: -105 3 45.00000
EAST_LONGITUDE: -105 0 0.00000
NORTH_LATITUDE: 48 33 45.00000
SOUTH_LATITUDE: 48 30 0.00000
PRODUCTION_DATE: 2001 9 23
RASTER_ORDER: LEFT_RIGHT/TOP_BOTTOM
BAND_ORGANIZATION: SINGLE FILE
BAND_CONTENT: BLACK&WHITE
BAND_CONTENT: UNDEFINED
BAND_CONTENT: UNDEFINED
BITS_PER_PIXEL: 8
SAMPLES_AND_LINES: 5267 7563
HORIZONTAL_DATUM: NAD83
HORIZONTAL_COORDINATE_SYSTEM: UTM
COORDINATE_ZONE: 13
HORIZONTAL_UNITS: meters
HORIZONTAL_RESOLUTION: 1.00000
SECONDARY_HORIZONTAL_DATUM: NAD27
XY_ORIGIN: 495038.00000 5379133.00000
SECONDARY_XY_ORIGIN: 495077.12500 5378911.37700
NATION: US
STATE: MT
NW_QUAD_CORNER_XY: 495388.68800 5378824.72300
NE_QUAD_CORNER_XY: 500000.00000 5378822.83700
SE_QUAD_CORNERY_XY: 500000.00000 5371875.57700
SW_QUAD_CORNER_XY: 495383.00900 5371877.46300
SECONDARY_NW_QUAD_XY: 495388.54100 5378605.74200
SECONDARY_NE_QUAD_XY: 500000.00000 5378603.85700
SECONDARY_SE_QUAD_XY: 500000.00000 5371656.60400
SECONDARY_SW_QUAD_XY: 495382.86300 5371658.49000
RMSE_XY: 4.77000
IMAGE_SOURCE: BLACK AND WHITE FILM
SOURCE_IMAGE_ID: NAPP 9096-156
SOURCE_IMAGE_DATE: 1996 7 9
SOURCE_DEM_DATE: 1998 0 0
AGENCY: WESTERN MAPPING CENTER (WMC)
PRODUCER: WOOLPERT LLP
PRODUCTION_SYSTEM: INTERGRAPH ISPM, ISIR
COMPRESSION: UNDEFINED
STANDARD_VERSION: 1996 12
METADATA_DATE: 2001 9 23
DATA_FILE_SIZE: 39839588
BYTE_COUNT: 5267
