FILENAME: O4810531.NES.1162642.tif
QUADRANGLE_NAME: PLEASANT PRAIRIE SW
QUADRANT: NE
WEST_LONGITUDE: -105 11 15.00000
EAST_LONGITUDE: -105 7 30.00000
NORTH_LATITUDE: 48 37 30.00000
SOUTH_LATITUDE: 48 33 45.00000
PRODUCTION_DATE: 2001 9 23
RASTER_ORDER: LEFT_RIGHT/TOP_BOTTOM
BAND_ORGANIZATION: SINGLE FILE
BAND_CONTENT: BLACK&WHITE
BAND_CONTENT: UNDEFINED
BAND_CONTENT: UNDEFINED
BITS_PER_PIXEL: 8
SAMPLES_AND_LINES: 5273 7570
HORIZONTAL_DATUM: NAD83
HORIZONTAL_COORDINATE_SYSTEM: UTM
COORDINATE_ZONE: 13
HORIZONTAL_UNITS: meters
HORIZONTAL_RESOLUTION: 1.00000
SECONDARY_HORIZONTAL_DATUM: NAD27
XY_ORIGIN: 485821.00000 5386095.00000
SECONDARY_XY_ORIGIN: 485860.20700 5385873.26900
NATION: US
STATE: MT
NW_QUAD_CORNER_XY: 486183.11900 5385787.13800
NE_QUAD_CORNER_XY: 490788.74500 5385777.71300
SE_QUAD_CORNERY_XY: 490777.37700 5378830.37900
SW_QUAD_CORNER_XY: 486166.06700 5378839.80700
SECONDARY_NW_QUAD_XY: 486182.67900 5385568.15200
SECONDARY_NE_QUAD_XY: 490788.45100 5385558.72600
SECONDARY_SE_QUAD_XY: 490777.08300 5378611.39900
SECONDARY_SW_QUAD_XY: 486165.62600 5378620.82700
RMSE_XY: 2.66000
IMAGE_SOURCE: BLACK AND WHITE FILM
SOURCE_IMAGE_ID: NAPP 9108-138
SOURCE_IMAGE_DATE: 1996 8 8
SOURCE_DEM_DATE: 1998 0 0
AGENCY: WESTERN MAPPING CENTER (WMC)
PRODUCER: WOOLPERT LLP
PRODUCTION_SYSTEM: INTERGRAPH ISPM, ISIR
COMPRESSION: UNDEFINED
STANDARD_VERSION: 1996 12
METADATA_DATE: 2001 9 23
DATA_FILE_SIZE: 39921883
BYTE_COUNT: 5273
