FILENAME: O4810530.SWS.1162633.tif
QUADRANGLE_NAME: BREDETTE
QUADRANT: SW
WEST_LONGITUDE: -105 22 30.00000
EAST_LONGITUDE: -105 18 45.00000
NORTH_LATITUDE: 48 33 45.00000
SOUTH_LATITUDE: 48 30 0.00000
PRODUCTION_DATE: 2001 9 23
RASTER_ORDER: LEFT_RIGHT/TOP_BOTTOM
BAND_ORGANIZATION: SINGLE FILE
BAND_CONTENT: BLACK&WHITE
BAND_CONTENT: UNDEFINED
BAND_CONTENT: UNDEFINED
BITS_PER_PIXEL: 8
SAMPLES_AND_LINES: 5297 7582
HORIZONTAL_DATUM: NAD83
HORIZONTAL_COORDINATE_SYSTEM: UTM
COORDINATE_ZONE: 13
HORIZONTAL_UNITS: meters
HORIZONTAL_RESOLUTION: 1.00000
SECONDARY_HORIZONTAL_DATUM: NAD27
XY_ORIGIN: 471952.00000 5379199.00000
SECONDARY_XY_ORIGIN: 471991.38500 5378977.26300
NATION: US
STATE: MT
NW_QUAD_CORNER_XY: 472332.15200 5378890.71600
NE_QUAD_CORNER_XY: 476943.45400 5378869.97500
SE_QUAD_CORNERY_XY: 476915.06100 5371922.72700
SW_QUAD_CORNER_XY: 472298.08000 5371943.47300
SECONDARY_NW_QUAD_XY: 472331.27100 5378671.73700
SECONDARY_NE_QUAD_XY: 476942.72000 5378650.99600
SECONDARY_SE_QUAD_XY: 476914.32700 5371703.75600
SECONDARY_SW_QUAD_XY: 472297.19900 5371724.50300
RMSE_XY: 4.67000
IMAGE_SOURCE: BLACK AND WHITE FILM
SOURCE_IMAGE_ID: NAPP 9116-119
SOURCE_IMAGE_DATE: 1996 8 27
SOURCE_DEM_DATE: 1998 0 0
AGENCY: WESTERN MAPPING CENTER (WMC)
PRODUCER: WOOLPERT LLP
PRODUCTION_SYSTEM: INTERGRAPH ISPM, ISIR
COMPRESSION: UNDEFINED
STANDARD_VERSION: 1996 12
METADATA_DATE: 2001 9 23
DATA_FILE_SIZE: 40167151
BYTE_COUNT: 5297
