FILENAME: O4810529.SES.1162620.tif
QUADRANGLE_NAME: NIELSEN COULEE
QUADRANT: SE
WEST_LONGITUDE: -105 26 15.00000
EAST_LONGITUDE: -105 22 30.00000
NORTH_LATITUDE: 48 33 45.00000
SOUTH_LATITUDE: 48 30 0.00000
PRODUCTION_DATE: 2001 9 23
RASTER_ORDER: LEFT_RIGHT/TOP_BOTTOM
BAND_ORGANIZATION: SINGLE FILE
BAND_CONTENT: BLACK&WHITE
BAND_CONTENT: UNDEFINED
BAND_CONTENT: UNDEFINED
BITS_PER_PIXEL: 8
SAMPLES_AND_LINES: 5303 7586
HORIZONTAL_DATUM: NAD83
HORIZONTAL_COORDINATE_SYSTEM: UTM
COORDINATE_ZONE: 13
HORIZONTAL_UNITS: meters
HORIZONTAL_RESOLUTION: 1.00000
SECONDARY_HORIZONTAL_DATUM: NAD27
XY_ORIGIN: 467335.00000 5379224.00000
SECONDARY_XY_ORIGIN: 467374.42800 5379002.22500
NATION: US
STATE: MT
NW_QUAD_CORNER_XY: 467720.85400 5378915.22700
NE_QUAD_CORNER_XY: 472332.15200 5378890.71600
SE_QUAD_CORNERY_XY: 472298.08000 5371943.47300
SW_QUAD_CORNER_XY: 467681.10300 5371967.99200
SECONDARY_NW_QUAD_XY: 467719.82600 5378696.25000
SECONDARY_NE_QUAD_XY: 472331.27100 5378671.73700
SECONDARY_SE_QUAD_XY: 472297.19900 5371724.50300
SECONDARY_SW_QUAD_XY: 467680.07600 5371749.02200
RMSE_XY: 2.47000
IMAGE_SOURCE: BLACK AND WHITE FILM
SOURCE_IMAGE_ID: NAPP 9093-112
SOURCE_IMAGE_DATE: 1996 7 9
SOURCE_DEM_DATE: 1998 0 0
AGENCY: WESTERN MAPPING CENTER (WMC)
PRODUCER: WOOLPERT LLP
PRODUCTION_SYSTEM: INTERGRAPH ISPM, ISIR
COMPRESSION: UNDEFINED
STANDARD_VERSION: 1996 12
METADATA_DATE: 2001 9 23
DATA_FILE_SIZE: 40233861
BYTE_COUNT: 5303
