FILENAME: O4810528.SES.1165616.tif
QUADRANGLE_NAME: JAKES COULEE
QUADRANT: SE
WEST_LONGITUDE: -105 33 45.00000
EAST_LONGITUDE: -105 30 0.00000
NORTH_LATITUDE: 48 33 45.00000
SOUTH_LATITUDE: 48 30 0.00000
PRODUCTION_DATE: 2001 9 15
RASTER_ORDER: LEFT_RIGHT/TOP_BOTTOM
BAND_ORGANIZATION: SINGLE FILE
BAND_CONTENT: BLACK&WHITE
BAND_CONTENT: UNDEFINED
BAND_CONTENT: UNDEFINED
BITS_PER_PIXEL: 8
SAMPLES_AND_LINES: 5314 7593
HORIZONTAL_DATUM: NAD83
HORIZONTAL_COORDINATE_SYSTEM: UTM
COORDINATE_ZONE: 13
HORIZONTAL_UNITS: meters
HORIZONTAL_RESOLUTION: 1.00000
SECONDARY_HORIZONTAL_DATUM: NAD27
XY_ORIGIN: 458101.00000 5379284.00000
SECONDARY_XY_ORIGIN: 458140.50200 5379062.12700
NATION: US
STATE: MT
NW_QUAD_CORNER_XY: 458498.27300 5378975.56500
NE_QUAD_CORNER_XY: 463109.56100 5378943.51000
SE_QUAD_CORNERY_XY: 463064.13100 5371996.28200
SW_QUAD_CORNER_XY: 458447.16500 5372028.34500
SECONDARY_NW_QUAD_XY: 458496.95200 5378756.58900
SECONDARY_NE_QUAD_XY: 463108.38600 5378724.53400
SECONDARY_SE_QUAD_XY: 463062.95700 5371777.31400
SECONDARY_SW_QUAD_XY: 458445.84400 5371809.37700
RMSE_XY: 2.98000
IMAGE_SOURCE: BLACK AND WHITE FILM
SOURCE_IMAGE_ID: NAPP 9094-073
SOURCE_IMAGE_DATE: 1996 7 9
SOURCE_DEM_DATE: 1998 0 0
AGENCY: WESTERN MAPPING CENTER (WMC)
PRODUCER: WOOLPERT LLP
PRODUCTION_SYSTEM: INTERGRAPH ISPM, ISIR
COMPRESSION: UNDEFINED
STANDARD_VERSION: 1996 12
METADATA_DATE: 2001 9 17
DATA_FILE_SIZE: 40354516
BYTE_COUNT: 5314
