FILENAME: O4810527.SWS.1165670.tif
QUADRANGLE_NAME: NORTH OF VOLT
QUADRANT: SW
WEST_LONGITUDE: -105 45 0.00000
EAST_LONGITUDE: -105 41 15.00000
NORTH_LATITUDE: 48 33 45.00000
SOUTH_LATITUDE: 48 30 0.00000
PRODUCTION_DATE: 2001 9 15
RASTER_ORDER: LEFT_RIGHT/TOP_BOTTOM
BAND_ORGANIZATION: SINGLE FILE
BAND_CONTENT: BLACK&WHITE
BAND_CONTENT: UNDEFINED
BAND_CONTENT: UNDEFINED
BITS_PER_PIXEL: 8
SAMPLES_AND_LINES: 5332 7605
HORIZONTAL_DATUM: NAD83
HORIZONTAL_COORDINATE_SYSTEM: UTM
COORDINATE_ZONE: 13
HORIZONTAL_UNITS: meters
HORIZONTAL_RESOLUTION: 1.00000
SECONDARY_HORIZONTAL_DATUM: NAD27
XY_ORIGIN: 444249.00000 5379403.00000
SECONDARY_XY_ORIGIN: 444288.59700 5379180.95800
NATION: US
STATE: MT
NW_QUAD_CORNER_XY: 444664.44900 5379094.35600
NE_QUAD_CORNER_XY: 449275.71600 5379050.98700
SE_QUAD_CORNERY_XY: 449213.25000 5372103.78800
SW_QUAD_CORNER_XY: 444596.30300 5372147.16800
SECONDARY_NW_QUAD_XY: 444662.68700 5378875.38400
SECONDARY_NE_QUAD_XY: 449274.10200 5378832.01400
SECONDARY_SE_QUAD_XY: 449211.63500 5371884.82200
SECONDARY_SW_QUAD_XY: 444594.54200 5371928.20400
RMSE_XY: 3.37000
IMAGE_SOURCE: BLACK AND WHITE FILM
SOURCE_IMAGE_ID: NAPP 9105-154
SOURCE_IMAGE_DATE: 1996 8 1
SOURCE_DEM_DATE: 1998 0 0
AGENCY: WESTERN MAPPING CENTER (WMC)
PRODUCER: WOOLPERT LLP
PRODUCTION_SYSTEM: INTERGRAPH ISPM, ISIR
COMPRESSION: UNDEFINED
STANDARD_VERSION: 1996 12
METADATA_DATE: 2001 9 17
DATA_FILE_SIZE: 40555192
BYTE_COUNT: 5332
