FILENAME: O4810526.NES.1165589.tif
QUADRANGLE_NAME: POPLAR COULEE
QUADRANT: NE
WEST_LONGITUDE: -105 48 45.00000
EAST_LONGITUDE: -105 45 0.00000
NORTH_LATITUDE: 48 37 30.00000
SOUTH_LATITUDE: 48 33 45.00000
PRODUCTION_DATE: 2001 9 15
RASTER_ORDER: LEFT_RIGHT/TOP_BOTTOM
BAND_ORGANIZATION: SINGLE FILE
BAND_CONTENT: BLACK&WHITE
BAND_CONTENT: UNDEFINED
BAND_CONTENT: UNDEFINED
BITS_PER_PIXEL: 8
SAMPLES_AND_LINES: 5332 7608
HORIZONTAL_DATUM: NAD83
HORIZONTAL_COORDINATE_SYSTEM: UTM
COORDINATE_ZONE: 13
HORIZONTAL_UNITS: meters
HORIZONTAL_RESOLUTION: 1.00000
SECONDARY_HORIZONTAL_DATUM: NAD27
XY_ORIGIN: 439706.00000 5386397.00000
SECONDARY_XY_ORIGIN: 439745.59900 5386174.84600
NATION: US
STATE: MT
NW_QUAD_CORNER_XY: 440127.08600 5386088.74500
NE_QUAD_CORNER_XY: 444732.66100 5386041.61800
SE_QUAD_CORNERY_XY: 444664.44900 5379094.35600
SW_QUAD_CORNER_XY: 440053.18900 5379141.49500
SECONDARY_NW_QUAD_XY: 440125.17800 5385869.76800
SECONDARY_NE_QUAD_XY: 444730.89900 5385822.64000
SECONDARY_SE_QUAD_XY: 444662.68700 5378875.38400
SECONDARY_SW_QUAD_XY: 440051.28100 5378922.52500
RMSE_XY: 2.52000
IMAGE_SOURCE: BLACK AND WHITE FILM
SOURCE_IMAGE_ID: NAPP 11000-052
SOURCE_IMAGE_DATE: 1998 7 13
SOURCE_DEM_DATE: 1998 0 0
AGENCY: WESTERN MAPPING CENTER (WMC)
PRODUCER: WOOLPERT LLP
PRODUCTION_SYSTEM: INTERGRAPH ISPM, ISIR
COMPRESSION: UNDEFINED
STANDARD_VERSION: 1996 12
METADATA_DATE: 2001 9 17
DATA_FILE_SIZE: 40571188
BYTE_COUNT: 5332
