FILENAME: O4810524.NES.1162578.tif
QUADRANGLE_NAME: PLEASANT PRAIRIE NE
QUADRANT: NE
WEST_LONGITUDE: -105 3 45.00000
EAST_LONGITUDE: -105 0 0.00000
NORTH_LATITUDE: 48 45 0.00000
SOUTH_LATITUDE: 48 41 15.00000
PRODUCTION_DATE: 2001 9 23
RASTER_ORDER: LEFT_RIGHT/TOP_BOTTOM
BAND_ORGANIZATION: SINGLE FILE
BAND_CONTENT: BLACK&WHITE
BAND_CONTENT: UNDEFINED
BAND_CONTENT: UNDEFINED
BITS_PER_PIXEL: 8
SAMPLES_AND_LINES: 5250 7563
HORIZONTAL_DATUM: NAD83
HORIZONTAL_COORDINATE_SYSTEM: UTM
COORDINATE_ZONE: 13
HORIZONTAL_UNITS: meters
HORIZONTAL_RESOLUTION: 1.00000
SECONDARY_HORIZONTAL_DATUM: NAD27
XY_ORIGIN: 495055.00000 5399975.00000
SECONDARY_XY_ORIGIN: 495094.02000 5399753.14000
NATION: US
STATE: MT
NW_QUAD_CORNER_XY: 495405.75700 5399666.95700
NE_QUAD_CORNER_XY: 500000.00000 5399665.07300
SE_QUAD_CORNERY_XY: 500000.00000 5392717.58500
SW_QUAD_CORNER_XY: 495400.06200 5392719.47000
SECONDARY_NW_QUAD_XY: 495405.61000 5399447.95900
SECONDARY_NE_QUAD_XY: 500000.00000 5399446.07500
SECONDARY_SE_QUAD_XY: 500000.00000 5392498.59200
SECONDARY_SW_QUAD_XY: 495399.91500 5392500.47700
RMSE_XY: 3.89000
IMAGE_SOURCE: BLACK AND WHITE FILM
SOURCE_IMAGE_ID: NAPP 9103-100
SOURCE_IMAGE_DATE: 1996 7 15
SOURCE_DEM_DATE: 1998 0 0
AGENCY: WESTERN MAPPING CENTER (WMC)
PRODUCER: WOOLPERT LLP
PRODUCTION_SYSTEM: INTERGRAPH ISPM, ISIR
COMPRESSION: UNDEFINED
STANDARD_VERSION: 1996 12
METADATA_DATE: 2001 9 23
DATA_FILE_SIZE: 39711000
BYTE_COUNT: 5250
