FILENAME: O4810524.SES.1162580.tif
QUADRANGLE_NAME: PLEASANT PRAIRIE NE
QUADRANT: SE
WEST_LONGITUDE: -105 3 45.00000
EAST_LONGITUDE: -105 0 0.00000
NORTH_LATITUDE: 48 41 15.00000
SOUTH_LATITUDE: 48 37 30.00000
PRODUCTION_DATE: 2001 9 23
RASTER_ORDER: LEFT_RIGHT/TOP_BOTTOM
BAND_ORGANIZATION: SINGLE FILE
BAND_CONTENT: BLACK&WHITE
BAND_CONTENT: UNDEFINED
BAND_CONTENT: UNDEFINED
BITS_PER_PIXEL: 8
SAMPLES_AND_LINES: 5255 7563
HORIZONTAL_DATUM: NAD83
HORIZONTAL_COORDINATE_SYSTEM: UTM
COORDINATE_ZONE: 13
HORIZONTAL_UNITS: meters
HORIZONTAL_RESOLUTION: 1.00000
SECONDARY_HORIZONTAL_DATUM: NAD27
XY_ORIGIN: 495050.00000 5393028.00000
SECONDARY_XY_ORIGIN: 495089.05500 5392806.21600
NATION: US
STATE: MT
NW_QUAD_CORNER_XY: 495400.06200 5392719.47000
NE_QUAD_CORNER_XY: 500000.00000 5392717.58500
SE_QUAD_CORNERY_XY: 500000.00000 5385770.17300
SW_QUAD_CORNER_XY: 495394.37200 5385772.05800
SECONDARY_NW_QUAD_XY: 495399.91500 5392500.47700
SECONDARY_NE_QUAD_XY: 500000.00000 5392498.59200
SECONDARY_SE_QUAD_XY: 500000.00000 5385551.18600
SECONDARY_SW_QUAD_XY: 495394.22500 5385553.07100
RMSE_XY: 4.84000
IMAGE_SOURCE: BLACK AND WHITE FILM
SOURCE_IMAGE_ID: NAPP 9103-098
SOURCE_IMAGE_DATE: 1996 7 15
SOURCE_DEM_DATE: 1998 0 0
AGENCY: WESTERN MAPPING CENTER (WMC)
PRODUCER: WOOLPERT LLP
PRODUCTION_SYSTEM: INTERGRAPH ISPM, ISIR
COMPRESSION: UNDEFINED
STANDARD_VERSION: 1996 12
METADATA_DATE: 2001 9 23
DATA_FILE_SIZE: 39748820
BYTE_COUNT: 5255
