FILENAME: O4810523.NES.1162590.tif
QUADRANGLE_NAME: PLEASANT PRAIRIE NW
QUADRANT: NE
WEST_LONGITUDE: -105 11 15.00000
EAST_LONGITUDE: -105 7 30.00000
NORTH_LATITUDE: 48 45 0.00000
SOUTH_LATITUDE: 48 41 15.00000
PRODUCTION_DATE: 2001 9 23
RASTER_ORDER: LEFT_RIGHT/TOP_BOTTOM
BAND_ORGANIZATION: SINGLE FILE
BAND_CONTENT: BLACK&WHITE
BAND_CONTENT: UNDEFINED
BAND_CONTENT: UNDEFINED
BITS_PER_PIXEL: 8
SAMPLES_AND_LINES: 5262 7570
HORIZONTAL_DATUM: NAD83
HORIZONTAL_COORDINATE_SYSTEM: UTM
COORDINATE_ZONE: 13
HORIZONTAL_UNITS: METERS
HORIZONTAL_RESOLUTION: 1.00000
SECONDARY_HORIZONTAL_DATUM: NAD27
XY_ORIGIN: 485855.00000 5399990.00000
SECONDARY_XY_ORIGIN: 485894.13700 5399768.11200
NATION: US
STATE: MT
NW_QUAD_CORNER_XY: 486217.27300 5399682.02800
NE_QUAD_CORNER_XY: 490811.51400 5399672.60900
SE_QUAD_CORNERY_XY: 490800.12400 5392725.12300
SW_QUAD_CORNER_XY: 486200.18800 5392734.54500
SECONDARY_NW_QUAD_XY: 486216.83300 5399463.03100
SECONDARY_NE_QUAD_XY: 490811.22100 5399453.61100
SECONDARY_SE_QUAD_XY: 490799.83000 5392506.13000
SECONDARY_SW_QUAD_XY: 486199.74700 5392515.55300
RMSE_XY: 5.49000
IMAGE_SOURCE: BLACK AND WHITE FILM
SOURCE_IMAGE_ID: NAPP 9108-134
SOURCE_IMAGE_DATE: 1996 8 8
SOURCE_DEM_DATE: 1998 0 0
AGENCY: WESTERN MAPPING CENTER (WMC)
PRODUCER: WOOLPERT LLP
PRODUCTION_SYSTEM: INTERGRAPH ISPM, ISIR
COMPRESSION: UNDEFINED
STANDARD_VERSION: 1996 12
METADATA_DATE: 2001 10 1
DATA_FILE_SIZE: 39838602
BYTE_COUNT: 5262
