FILENAME: O4810522.NWS.1162603.tif
QUADRANGLE_NAME: LINE COULEE
QUADRANT: NW
WEST_LONGITUDE: -105 22 30.00000
EAST_LONGITUDE: -105 18 45.00000
NORTH_LATITUDE: 48 45 0.00000
SOUTH_LATITUDE: 48 41 15.00000
PRODUCTION_DATE: 2001 9 23
RASTER_ORDER: LEFT_RIGHT/TOP_BOTTOM
BAND_ORGANIZATION: SINGLE FILE
BAND_CONTENT: BLACK&WHITE
BAND_CONTENT: UNDEFINED
BAND_CONTENT: UNDEFINED
BITS_PER_PIXEL: 8
SAMPLES_AND_LINES: 5279 7582
HORIZONTAL_DATUM: NAD83
HORIZONTAL_COORDINATE_SYSTEM: UTM
COORDINATE_ZONE: 13
HORIZONTAL_UNITS: meters
HORIZONTAL_RESOLUTION: 1.00000
SECONDARY_HORIZONTAL_DATUM: NAD27
XY_ORIGIN: 472055.00000 5400041.00000
SECONDARY_XY_ORIGIN: 472094.29300 5399819.08600
NATION: US
STATE: MT
NW_QUAD_CORNER_XY: 472434.56600 5399732.89500
NE_QUAD_CORNER_XY: 477028.79800 5399712.17200
SE_QUAD_CORNERY_XY: 477000.32200 5392764.69700
SW_QUAD_CORNER_XY: 472400.39400 5392785.42600
SECONDARY_NW_QUAD_XY: 472433.68500 5399513.89900
SECONDARY_NE_QUAD_XY: 477028.06400 5399493.17500
SECONDARY_SE_QUAD_XY: 476999.58800 5392545.70600
SECONDARY_SW_QUAD_XY: 472399.51400 5392566.43600
RMSE_XY: 5.67000
IMAGE_SOURCE: BLACK AND WHITE FILM
SOURCE_IMAGE_ID: NAPP 9122-157
SOURCE_IMAGE_DATE: 1996 9 11
SOURCE_DEM_DATE: 1998 0 0
AGENCY: WESTERN MAPPING CENTER (WMC)
PRODUCER: WOOLPERT LLP
PRODUCTION_SYSTEM: INTERGRAPH ISPM, ISIR
COMPRESSION: UNDEFINED
STANDARD_VERSION: 1996 12
METADATA_DATE: 2001 9 23
DATA_FILE_SIZE: 40030657
BYTE_COUNT: 5279
