FILENAME: O4810522.SWS.1162605.tif
QUADRANGLE_NAME: LINE COULEE
QUADRANT: SW
WEST_LONGITUDE: -105 22 30.00000
EAST_LONGITUDE: -105 18 45.00000
NORTH_LATITUDE: 48 41 15.00000
SOUTH_LATITUDE: 48 37 30.00000
PRODUCTION_DATE: 2001 9 23
RASTER_ORDER: LEFT_RIGHT/TOP_BOTTOM
BAND_ORGANIZATION: SINGLE FILE
BAND_CONTENT: BLACK&WHITE
BAND_CONTENT: UNDEFINED
BAND_CONTENT: UNDEFINED
BITS_PER_PIXEL: 8
SAMPLES_AND_LINES: 5285 7582
HORIZONTAL_DATUM: NAD83
HORIZONTAL_COORDINATE_SYSTEM: UTM
COORDINATE_ZONE: 13
HORIZONTAL_UNITS: meters
HORIZONTAL_RESOLUTION: 1.00000
SECONDARY_HORIZONTAL_DATUM: NAD27
XY_ORIGIN: 472021.00000 5393094.00000
SECONDARY_XY_ORIGIN: 472060.32300 5392872.14200
NATION: US
STATE: MT
NW_QUAD_CORNER_XY: 472400.39400 5392785.42600
NE_QUAD_CORNER_XY: 477000.32200 5392764.69700
SE_QUAD_CORNERY_XY: 476971.87400 5385817.29800
SW_QUAD_CORNER_XY: 472366.25600 5385838.03300
SECONDARY_NW_QUAD_XY: 472399.51400 5392566.43600
SECONDARY_NE_QUAD_XY: 476999.58800 5392545.70600
SECONDARY_SE_QUAD_XY: 476971.14000 5385598.31300
SECONDARY_SW_QUAD_XY: 472365.37600 5385619.04800
RMSE_XY: 2.75000
IMAGE_SOURCE: BLACK AND WHITE FILM
SOURCE_IMAGE_ID: NAPP 9122-155
SOURCE_IMAGE_DATE: 1996 9 11
SOURCE_DEM_DATE: 1998 0 0
AGENCY: WESTERN MAPPING CENTER (WMC)
PRODUCER: WOOLPERT LLP
PRODUCTION_SYSTEM: INTERGRAPH ISPM, ISIR
COMPRESSION: UNDEFINED
STANDARD_VERSION: 1996 12
METADATA_DATE: 2001 9 23
DATA_FILE_SIZE: 40076155
BYTE_COUNT: 5285
