FILENAME: O4810511.NES.1165648.tif
QUADRANGLE_NAME: KILLENBECK RESERVOIR
QUADRANT: NE
WEST_LONGITUDE: -105 41 15.00000
EAST_LONGITUDE: -105 37 30.00000
NORTH_LATITUDE: 48 52 30.00000
SOUTH_LATITUDE: 48 48 45.00000
PRODUCTION_DATE: 2001 9 15
RASTER_ORDER: LEFT_RIGHT/TOP_BOTTOM
BAND_ORGANIZATION: SINGLE FILE
BAND_CONTENT: BLACK&WHITE
BAND_CONTENT: UNDEFINED
BAND_CONTENT: UNDEFINED
BITS_PER_PIXEL: 8
SAMPLES_AND_LINES: 5297 7602
HORIZONTAL_DATUM: NAD83
HORIZONTAL_COORDINATE_SYSTEM: UTM
COORDINATE_ZONE: 13
HORIZONTAL_UNITS: meters
HORIZONTAL_RESOLUTION: 1.00000
SECONDARY_HORIZONTAL_DATUM: NAD27
XY_ORIGIN: 449180.00000 5414097.00000
SECONDARY_XY_ORIGIN: 449219.50400 5413874.93700
NATION: US
STATE: MT
NW_QUAD_CORNER_XY: 449588.96000 5413788.10500
NE_QUAD_CORNER_XY: 454171.75600 5413748.56400
SE_QUAD_CORNERY_XY: 454114.69300 5406800.97900
SW_QUAD_CORNER_XY: 449526.19000 5406840.53200
SECONDARY_NW_QUAD_XY: 449587.34500 5413569.10700
SECONDARY_NE_QUAD_XY: 454170.28800 5413529.56400
SECONDARY_SE_QUAD_XY: 454113.22500 5406581.98300
SECONDARY_SW_QUAD_XY: 449524.57500 5406621.53700
RMSE_XY: 3.75000
IMAGE_SOURCE: BLACK AND WHITE FILM
SOURCE_IMAGE_ID: NAPP 9105-131
SOURCE_IMAGE_DATE: 1996 8 1
SOURCE_DEM_DATE: 1998 0 0
AGENCY: WESTERN MAPPING CENTER (WMC)
PRODUCER: WOOLPERT LLP
PRODUCTION_SYSTEM: INTERGRAPH ISPM, ISIR
COMPRESSION: UNDEFINED
STANDARD_VERSION: 1996 12
METADATA_DATE: 2001 9 17
DATA_FILE_SIZE: 40273091
BYTE_COUNT: 5297
