FILENAME: O4810511.SES.1165650.tif
QUADRANGLE_NAME: KILLENBECK RESERVOIR
QUADRANT: SE
WEST_LONGITUDE: -105 41 15.00000
EAST_LONGITUDE: -105 37 30.00000
NORTH_LATITUDE: 48 48 45.00000
SOUTH_LATITUDE: 48 45 0.00000
PRODUCTION_DATE: 2001 9 15
RASTER_ORDER: LEFT_RIGHT/TOP_BOTTOM
BAND_ORGANIZATION: SINGLE FILE
BAND_CONTENT: BLACK&WHITE
BAND_CONTENT: UNDEFINED
BAND_CONTENT: UNDEFINED
BITS_PER_PIXEL: 8
SAMPLES_AND_LINES: 5303 7601
HORIZONTAL_DATUM: NAD83
HORIZONTAL_COORDINATE_SYSTEM: UTM
COORDINATE_ZONE: 13
HORIZONTAL_UNITS: meters
HORIZONTAL_RESOLUTION: 1.00000
SECONDARY_HORIZONTAL_DATUM: NAD27
XY_ORIGIN: 449117.00000 5407149.00000
SECONDARY_XY_ORIGIN: 449156.49800 5406926.91700
NATION: US
STATE: MT
NW_QUAD_CORNER_XY: 449526.19000 5406840.53200
NE_QUAD_CORNER_XY: 454114.69300 5406800.97900
SE_QUAD_CORNERY_XY: 454057.68500 5399853.47000
SW_QUAD_CORNER_XY: 449463.48000 5399893.03400
SECONDARY_NW_QUAD_XY: 449524.57500 5406621.53700
SECONDARY_NE_QUAD_XY: 454113.22500 5406581.98300
SECONDARY_SE_QUAD_XY: 454056.21700 5399634.47800
SECONDARY_SW_QUAD_XY: 449461.86500 5399674.04300
RMSE_XY: 3.29000
IMAGE_SOURCE: BLACK AND WHITE FILM
SOURCE_IMAGE_ID: NAPP 9105-129
SOURCE_IMAGE_DATE: 1996 8 1
SOURCE_DEM_DATE: 1998 0 0
AGENCY: WESTERN MAPPING CENTER (WMC)
PRODUCER: WOOLPERT LLP
PRODUCTION_SYSTEM: INTERGRAPH ISPM, ISIR
COMPRESSION: UNDEFINED
STANDARD_VERSION: 1996 12
METADATA_DATE: 2001 9 17
DATA_FILE_SIZE: 40313406
BYTE_COUNT: 5303
