FILENAME: O4810509.NWS.1165528.tif
QUADRANGLE_NAME: HORSESHOE BASIN
QUADRANT: NW
WEST_LONGITUDE: -106 0 0.00000
EAST_LONGITUDE: -105 56 15.00000
NORTH_LATITUDE: 48 52 30.00000
SOUTH_LATITUDE: 48 48 45.00000
PRODUCTION_DATE: 2001 9 15
RASTER_ORDER: LEFT_RIGHT/TOP_BOTTOM
BAND_ORGANIZATION: SINGLE FILE
BAND_CONTENT: BLACK&WHITE
BAND_CONTENT: UNDEFINED
BAND_CONTENT: UNDEFINED
BITS_PER_PIXEL: 8
SAMPLES_AND_LINES: 5327 7620
HORIZONTAL_DATUM: NAD83
HORIZONTAL_COORDINATE_SYSTEM: UTM
COORDINATE_ZONE: 13
HORIZONTAL_UNITS: meters
HORIZONTAL_RESOLUTION: 1.00000
SECONDARY_HORIZONTAL_DATUM: NAD27
XY_ORIGIN: 426236.00000 5414351.00000
SECONDARY_XY_ORIGIN: 426275.63900 5414128.57800
NATION: US
STATE: MT
NW_QUAD_CORNER_XY: 426675.11300 5414042.30500
NE_QUAD_CORNER_XY: 431257.86200 5413983.93300
SE_QUAD_CORNERY_XY: 431172.26300 5407036.41700
SW_QUAD_CORNER_XY: 426583.80700 5407094.80700
SECONDARY_NW_QUAD_XY: 426672.76400 5413823.31500
SECONDARY_NE_QUAD_XY: 431255.65900 5413764.94000
SECONDARY_SE_QUAD_XY: 431170.06100 5406817.42800
SECONDARY_SW_QUAD_XY: 426581.45800 5406875.81900
RMSE_XY: 4.05000
IMAGE_SOURCE: BLACK AND WHITE FILM
SOURCE_IMAGE_ID: NAPP 9095-139
SOURCE_IMAGE_DATE: 1996 7 9
SOURCE_DEM_DATE: 1998 0 0
AGENCY: WESTERN MAPPING CENTER (WMC)
PRODUCER: WOOLPERT LLP
PRODUCTION_SYSTEM: INTERGRAPH ISPM, ISIR
COMPRESSION: UNDEFINED
STANDARD_VERSION: 1996 12
METADATA_DATE: 2001 9 17
DATA_FILE_SIZE: 40597067
BYTE_COUNT: 5327
