FILENAME: O4810507.NES.1162582.tif
QUADRANGLE_NAME: WHITETAIL
QUADRANT: NE
WEST_LONGITUDE: -105 11 15.00000
EAST_LONGITUDE: -105 7 30.00000
NORTH_LATITUDE: 49 0 0.00000
SOUTH_LATITUDE: 48 56 15.00000
PRODUCTION_DATE: 2001 9 23
RASTER_ORDER: LEFT_RIGHT/TOP_BOTTOM
BAND_ORGANIZATION: SINGLE FILE
BAND_CONTENT: BLACK&WHITE
BAND_CONTENT: UNDEFINED
BAND_CONTENT: UNDEFINED
BITS_PER_PIXEL: 8
SAMPLES_AND_LINES: 5239 7571
HORIZONTAL_DATUM: NAD83
HORIZONTAL_COORDINATE_SYSTEM: UTM
COORDINATE_ZONE: 13
HORIZONTAL_UNITS: meters
HORIZONTAL_RESOLUTION: 1.00000
SECONDARY_HORIZONTAL_DATUM: NAD27
XY_ORIGIN: 485924.00000 5427781.00000
SECONDARY_XY_ORIGIN: 485963.07900 5427559.01400
NATION: US
NATION: CA
STATE: MT
NW_QUAD_CORNER_XY: 486285.78000 5427472.71700
NE_QUAD_CORNER_XY: 490857.18500 5427463.30800
SE_QUAD_CORNERY_XY: 490845.75100 5420515.52000
SW_QUAD_CORNER_XY: 486268.62900 5420524.93100
SECONDARY_NW_QUAD_XY: 486285.34000 5427253.70700
SECONDARY_NE_QUAD_XY: 490856.89200 5427244.29800
SECONDARY_SE_QUAD_XY: 490845.45800 5420296.51100
SECONDARY_SW_QUAD_XY: 486268.18800 5420305.92300
RMSE_XY: 2.83000
IMAGE_SOURCE: BLACK AND WHITE FILM
SOURCE_IMAGE_ID: NAPP 9108-126
SOURCE_IMAGE_DATE: 1996 8 8
SOURCE_DEM_DATE: 1998 0 0
AGENCY: WESTERN MAPPING CENTER (WMC)
PRODUCER: WOOLPERT LLP
PRODUCTION_SYSTEM: INTERGRAPH ISPM, ISIR
COMPRESSION: UNDEFINED
STANDARD_VERSION: 1996 12
METADATA_DATE: 2001 9 23
DATA_FILE_SIZE: 39669708
BYTE_COUNT: 5239
