FILENAME: O4810503.NWS.1165645.tif
QUADRANGLE_NAME: FOUR BUTTES NW
QUADRANT: NW
WEST_LONGITUDE: -105 45 0.00000
EAST_LONGITUDE: -105 41 15.00000
NORTH_LATITUDE: 49 0 0.00000
SOUTH_LATITUDE: 48 56 15.00000
PRODUCTION_DATE: 2001 9 15
RASTER_ORDER: LEFT_RIGHT/TOP_BOTTOM
BAND_ORGANIZATION: SINGLE FILE
BAND_CONTENT: BLACK&WHITE
BAND_CONTENT: UNDEFINED
BAND_CONTENT: UNDEFINED
BITS_PER_PIXEL: 8
SAMPLES_AND_LINES: 5292 7605
HORIZONTAL_DATUM: NAD83
HORIZONTAL_COORDINATE_SYSTEM: UTM
COORDINATE_ZONE: 13
HORIZONTAL_UNITS: meters
HORIZONTAL_RESOLUTION: 1.00000
SECONDARY_HORIZONTAL_DATUM: NAD27
XY_ORIGIN: 444728.00000 5428035.00000
SECONDARY_XY_ORIGIN: 444767.55500 5427812.92300
NATION: US
NATION: CA
STATE: MT
NW_QUAD_CORNER_XY: 445143.32300 5427726.75600
NE_QUAD_CORNER_XY: 449714.68100 5427683.47500
SE_QUAD_CORNERY_XY: 449651.79000 5420735.75300
SW_QUAD_CORNER_XY: 445074.71400 5420779.04700
SECONDARY_NW_QUAD_XY: 445141.56100 5427507.75500
SECONDARY_NE_QUAD_XY: 449713.06600 5427464.47200
SECONDARY_SE_QUAD_XY: 449650.17500 5420516.75100
SECONDARY_SW_QUAD_XY: 445072.95200 5420560.04700
RMSE_XY: 4.25000
IMAGE_SOURCE: BLACK AND WHITE FILM
SOURCE_IMAGE_ID: NAPP 9105-140
SOURCE_IMAGE_DATE: 1996 8 1
SOURCE_DEM_DATE: 1998 0 0
AGENCY: WESTERN MAPPING CENTER (WMC)
PRODUCER: WOOLPERT LLP
PRODUCTION_SYSTEM: INTERGRAPH ISPM, ISIR
COMPRESSION: UNDEFINED
STANDARD_VERSION: 1996 12
METADATA_DATE: 2001 9 17
DATA_FILE_SIZE: 40250952
BYTE_COUNT: 5292
