FILENAME: O4810764.SWS.1137122.tif
QUADRANGLE_NAME: BURNETT FLATS EAST
QUADRANT: SW
WEST_LONGITUDE: -107 7 30.00000
EAST_LONGITUDE: -107 3 45.00000
NORTH_LATITUDE: 48 3 45.00000
SOUTH_LATITUDE: 48 0 0.00000
PRODUCTION_DATE: 2001 3 21
RASTER_ORDER: LEFT_RIGHT/TOP_BOTTOM
BAND_ORGANIZATION: SINGLE FILE
BAND_CONTENT: BLACK&WHITE
BAND_CONTENT: UNDEFINED
BAND_CONTENT: UNDEFINED
BITS_PER_PIXEL: 8
SAMPLES_AND_LINES: 5507 7686
HORIZONTAL_DATUM: NAD83
HORIZONTAL_COORDINATE_SYSTEM: UTM
COORDINATE_ZONE: 13
HORIZONTAL_UNITS: meters
HORIZONTAL_RESOLUTION: 1.00000
SECONDARY_HORIZONTAL_DATUM: NAD27
XY_ORIGIN: 341135.00000 5325739.00000
SECONDARY_XY_ORIGIN: 341177.34500 5325518.10700
NATION: US
STATE: MT
NW_QUAD_CORNER_XY: 341679.94400 5325431.30000
NE_QUAD_CORNER_XY: 346336.20100 5325304.67100
SE_QUAD_CORNERY_XY: 346150.20900 5318358.48800
SW_QUAD_CORNER_XY: 341488.31300 5318485.14600
SECONDARY_NW_QUAD_XY: 341674.95500 5325212.47300
SECONDARY_NE_QUAD_XY: 346331.35800 5325085.84000
SECONDARY_SE_QUAD_XY: 346145.36700 5318139.67200
SECONDARY_SW_QUAD_XY: 341483.32400 5318266.33400
RMSE_XY: 1.88000
IMAGE_SOURCE: BLACK AND WHITE FILM
SOURCE_IMAGE_ID: NAPP 9101-143
SOURCE_IMAGE_DATE: 1996 7 15
SOURCE_DEM_DATE: 1995 0 0
AGENCY: WESTERN MAPPING CENTER (WMC)
PRODUCER: WOOLPERT LLP
PRODUCTION_SYSTEM: INTERGRAPH ISPM, ISIR
COMPRESSION: UNDEFINED
STANDARD_VERSION: 1996 12
METADATA_DATE: 2001 3 21
DATA_FILE_SIZE: 42332309
BYTE_COUNT: 5507
