FILENAME: O4810762.SES.1116604.tif
QUADRANGLE_NAME: CRAIG RESERVOIR
QUADRANT: SE
WEST_LONGITUDE: -107 18 45.00000
EAST_LONGITUDE: -107 15 0.00000
NORTH_LATITUDE: 48 3 45.00000
SOUTH_LATITUDE: 48 0 0.00000
PRODUCTION_DATE: 2000 11 14
RASTER_ORDER: LEFT_RIGHT/TOP_BOTTOM
BAND_ORGANIZATION: SINGLE FILE
BAND_CONTENT: BLACK&WHITE
BAND_CONTENT: UNDEFINED
BAND_CONTENT: UNDEFINED
BITS_PER_PIXEL: 8
SAMPLES_AND_LINES: 5516 7689
HORIZONTAL_DATUM: NAD83
HORIZONTAL_COORDINATE_SYSTEM: UTM
COORDINATE_ZONE: 13
HORIZONTAL_UNITS: METERS
HORIZONTAL_RESOLUTION: 1.00000
SECONDARY_HORIZONTAL_DATUM: NAD27
XY_ORIGIN: 327153.00000 5326136.00000
SECONDARY_XY_ORIGIN: 327195.93000 5325915.51500
NATION: US
NATION: "SCIENCE
STATE: MT
NW_QUAD_CORNER_XY: 327711.29800 5325833.88500
NE_QUAD_CORNER_XY: 332367.49200 5325695.90600
SE_QUAD_CORNERY_XY: 332164.57900 5318749.81300
SW_QUAD_CORNER_XY: 327502.74300 5318887.82400
SECONDARY_NW_QUAD_XY: 327705.86900 5325615.07100
SECONDARY_NE_QUAD_XY: 332362.21000 5325477.08800
SECONDARY_SE_QUAD_XY: 332159.29700 5318531.01000
SECONDARY_SW_QUAD_XY: 327497.31400 5318669.02500
RMSE_XY: 1.30000
IMAGE_SOURCE: BLACK AND WHITE FILM
SOURCE_IMAGE_ID: NAPP 9127 032
SOURCE_IMAGE_DATE: 1996 07 15
SOURCE_DEM_DATE: 1977 00 00
AGENCY: WESTERN MAPPING CENTER (WMC)
PRODUCER: UNDEFINED
PRODUCTION_SYSTEM: GIS/MAGIC
COMPRESSION: UNDEFINED
STANDARD_VERSION: 1996 12
METADATA_DATE: 2000 11 15
DATA_FILE_SIZE: 42418040
BYTE_COUNT: 5516
