FILENAME: O4810761.SES.1116564.tif
QUADRANGLE_NAME: HARB SW
QUADRANT: SE
WEST_LONGITUDE: -107 26 15.00000
EAST_LONGITUDE: -107 22 30.00000
NORTH_LATITUDE: 48 3 45.00000
SOUTH_LATITUDE: 48 0 0.00000
PRODUCTION_DATE: 2000 11 14
RASTER_ORDER: LEFT_RIGHT/TOP_BOTTOM
BAND_ORGANIZATION: SINGLE FILE
BAND_CONTENT: BLACK&WHITE
BAND_CONTENT: UNDEFINED
BAND_CONTENT: UNDEFINED
BITS_PER_PIXEL: 8
SAMPLES_AND_LINES: 5528 7696
HORIZONTAL_DATUM: NAD83
HORIZONTAL_COORDINATE_SYSTEM: UTM
COORDINATE_ZONE: 13
HORIZONTAL_UNITS: METERS
HORIZONTAL_RESOLUTION: 1.00000
SECONDARY_HORIZONTAL_DATUM: NAD27
XY_ORIGIN: 317829.00000 5326423.00000
SECONDARY_XY_ORIGIN: 317872.28500 5326202.78500
NATION: US
NATION: "SCIENCE
STATE: MT
NW_QUAD_CORNER_XY: 318398.97500 5326121.19300
NE_QUAD_CORNER_XY: 323055.12500 5325975.64700
SE_QUAD_CORNERY_XY: 322840.92800 5319029.61900
SW_QUAD_CORNER_XY: 318179.13500 5319175.19800
SECONDARY_NW_QUAD_XY: 318393.25200 5325902.38900
SECONDARY_NE_QUAD_XY: 323049.54900 5325756.83800
SECONDARY_SE_QUAD_XY: 322835.35200 5318810.82400
SECONDARY_SW_QUAD_XY: 318173.41300 5318956.40800
RMSE_XY: 1.00000
IMAGE_SOURCE: BLACK AND WHITE FILM
SOURCE_IMAGE_ID: NAPP 9127 138
SOURCE_IMAGE_DATE: 1996 07 15
SOURCE_DEM_DATE: 1977 00 00
AGENCY: WESTERN MAPPING CENTER (WMC)
PRODUCER: UNDEFINED
PRODUCTION_SYSTEM: GIS/MAGIC
COMPRESSION: UNDEFINED
STANDARD_VERSION: 1996 12
METADATA_DATE: 2000 11 15
DATA_FILE_SIZE: 42549016
BYTE_COUNT: 5528
