FILENAME: O4810760.NES.1116702.tif
QUADRANGLE_NAME: CONTENT
QUADRANT: NE
WEST_LONGITUDE: -107 33 45.00000
EAST_LONGITUDE: -107 30 0.00000
NORTH_LATITUDE: 48 7 30.00000
SOUTH_LATITUDE: 48 3 45.00000
PRODUCTION_DATE: 2000 11 14
RASTER_ORDER: LEFT_RIGHT/TOP_BOTTOM
BAND_ORGANIZATION: SINGLE FILE
BAND_CONTENT: BLACK&WHITE
BAND_CONTENT: UNDEFINED
BAND_CONTENT: UNDEFINED
BITS_PER_PIXEL: 8
SAMPLES_AND_LINES: 5534 7703
HORIZONTAL_DATUM: NAD83
HORIZONTAL_COORDINATE_SYSTEM: UTM
COORDINATE_ZONE: 13
HORIZONTAL_UNITS: METERS
HORIZONTAL_RESOLUTION: 1.00000
SECONDARY_HORIZONTAL_DATUM: NAD27
XY_ORIGIN: 308736.00000 5333671.00000
SECONDARY_XY_ORIGIN: 308779.36400 5333450.95000
NATION: US
NATION: "SCIENCE
STATE: MT
NW_QUAD_CORNER_XY: 309318.09800 5333369.62500
NE_QUAD_CORNER_XY: 313968.55300 5333216.54600
SE_QUAD_CORNERY_XY: 313742.84700 5326270.52400
SW_QUAD_CORNER_XY: 309086.74400 5326423.63900
SECONDARY_NW_QUAD_XY: 309312.08100 5333150.81700
SECONDARY_NE_QUAD_XY: 313962.68300 5332997.73300
SECONDARY_SE_QUAD_XY: 313736.97800 5326051.72400
SECONDARY_SW_QUAD_XY: 309080.72700 5326204.84400
RMSE_XY: 0.80000
IMAGE_SOURCE: BLACK AND WHITE FILM
SOURCE_IMAGE_ID: NAPP 9127 226
SOURCE_IMAGE_DATE: 1996 07 15
SOURCE_IMAGE_ID: NAPP 9127 228
SOURCE_IMAGE_DATE: 1996 07 15
SOURCE_DEM_DATE: 1977 00 00
AGENCY: WESTERN MAPPING CENTER (WMC)
PRODUCER: UNDEFINED
PRODUCTION_SYSTEM: GIS/MAGIC
COMPRESSION: UNDEFINED
STANDARD_VERSION: 1996 12
METADATA_DATE: 2000 12 13
DATA_FILE_SIZE: 42633936
BYTE_COUNT: 5534
