FILENAME: O4810760.SWS.1116705.tif
QUADRANGLE_NAME: CONTENT
QUADRANT: SW
WEST_LONGITUDE: -107 37 30.00000
EAST_LONGITUDE: -107 33 45.00000
NORTH_LATITUDE: 48 3 45.00000
SOUTH_LATITUDE: 48 0 0.00000
PRODUCTION_DATE: 2000 11 14
RASTER_ORDER: LEFT_RIGHT/TOP_BOTTOM
BAND_ORGANIZATION: SINGLE FILE
BAND_CONTENT: BLACK&WHITE
BAND_CONTENT: UNDEFINED
BAND_CONTENT: UNDEFINED
BITS_PER_PIXEL: 8
SAMPLES_AND_LINES: 5545 7707
HORIZONTAL_DATUM: NAD83
HORIZONTAL_COORDINATE_SYSTEM: UTM
COORDINATE_ZONE: 13
HORIZONTAL_UNITS: METERS
HORIZONTAL_RESOLUTION: 1.00000
SECONDARY_HORIZONTAL_DATUM: NAD27
XY_ORIGIN: 303843.00000 5326882.00000
SECONDARY_XY_ORIGIN: 303886.46100 5326661.86200
NATION: US
NATION: "SCIENCE
STATE: MT
NW_QUAD_CORNER_XY: 304430.66400 5326580.53900
NE_QUAD_CORNER_XY: 309086.74400 5326423.63900
SE_QUAD_CORNERY_XY: 308855.61800 5319477.71400
SW_QUAD_CORNER_XY: 304193.89400 5319634.65000
SECONDARY_NW_QUAD_XY: 304424.50100 5326361.74900
SECONDARY_NE_QUAD_XY: 309080.72700 5326204.84400
SECONDARY_SE_QUAD_XY: 308849.60200 5319258.93300
SECONDARY_SW_QUAD_XY: 304187.73100 5319415.87500
RMSE_XY: 1.00000
IMAGE_SOURCE: BLACK AND WHITE FILM
SOURCE_IMAGE_ID: NAPP 9125 011
SOURCE_IMAGE_DATE: 1996 06 20
SOURCE_DEM_DATE: 1977 00 00
AGENCY: WESTERN MAPPING CENTER (WMC)
PRODUCER: UNDEFINED
PRODUCTION_SYSTEM: GIS/MAGIC
COMPRESSION: UNDEFINED
STANDARD_VERSION: 1996 12
METADATA_DATE: 2000 12 13
DATA_FILE_SIZE: 42740860
BYTE_COUNT: 5545
