FILENAME: O4810759.SWS.1116669.tif
QUADRANGLE_NAME: HORSE PASTURE COULEE
QUADRANT: SW
WEST_LONGITUDE: -107 45 0.00000
EAST_LONGITUDE: -107 41 15.00000
NORTH_LATITUDE: 48 3 45.00000
SOUTH_LATITUDE: 48 0 0.00000
PRODUCTION_DATE: 2000 11 6
RASTER_ORDER: LEFT_RIGHT/TOP_BOTTOM
BAND_ORGANIZATION: SINGLE FILE
BAND_CONTENT: BLACK&WHITE
BAND_CONTENT: UNDEFINED
BAND_CONTENT: UNDEFINED
BITS_PER_PIXEL: 8
SAMPLES_AND_LINES: 5557 7715
HORIZONTAL_DATUM: NAD83
HORIZONTAL_COORDINATE_SYSTEM: UTM
COORDINATE_ZONE: 13
HORIZONTAL_UNITS: METERS
HORIZONTAL_RESOLUTION: 1.00000
SECONDARY_HORIZONTAL_DATUM: NAD27
XY_ORIGIN: 294519.00000 5327208.00000
SECONDARY_XY_ORIGIN: 294562.47800 5326987.81000
NATION: US
NATION: "SCIENCE
STATE: MT
NW_QUAD_CORNER_XY: 295118.58000 5326905.69600
NE_QUAD_CORNER_XY: 299774.60900 5326741.22500
SE_QUAD_CORNERY_XY: 299532.19500 5319795.37300
SW_QUAD_CORNER_XY: 294870.52100 5319959.88200
SECONDARY_NW_QUAD_XY: 295112.12300 5326686.91600
SECONDARY_NE_QUAD_XY: 299768.29900 5326522.44000
SECONDARY_SE_QUAD_XY: 299525.88600 5319576.60200
SECONDARY_SW_QUAD_XY: 294864.06500 5319741.11600
RMSE_XY: 1.00000
IMAGE_SOURCE: BLACK AND WHITE FILM
SOURCE_IMAGE_ID: NAPP 9131 201
SOURCE_IMAGE_DATE: 1996 07 29
SOURCE_DEM_DATE: 1977 00 00
AGENCY: WESTERN MAPPING CENTER (WMC)
PRODUCER: UNDEFINED
PRODUCTION_SYSTEM: GIS/MAGIC
COMPRESSION: UNDEFINED
STANDARD_VERSION: 1996 12
METADATA_DATE: 2000 11 15
DATA_FILE_SIZE: 42877812
BYTE_COUNT: 5557
