FILENAME: O4810757.NES.1112654.tif
QUADRANGLE_NAME: BUTTON BUTTE
QUADRANT: NE
WEST_LONGITUDE: -107 56 15.00000
EAST_LONGITUDE: -107 52 30.00000
NORTH_LATITUDE: 48 7 30.00000
SOUTH_LATITUDE: 48 3 45.00000
PRODUCTION_DATE: 2000 11 6
RASTER_ORDER: LEFT_RIGHT/TOP_BOTTOM
BAND_ORGANIZATION: SINGLE FILE
BAND_CONTENT: BLACK&WHITE
BAND_CONTENT: UNDEFINED
BAND_CONTENT: UNDEFINED
BITS_PER_PIXEL: 8
SAMPLES_AND_LINES: 5569 7727
HORIZONTAL_DATUM: NAD83
HORIZONTAL_COORDINATE_SYSTEM: UTM
COORDINATE_ZONE: 13
HORIZONTAL_UNITS: METERS
HORIZONTAL_RESOLUTION: 1.00000
SECONDARY_HORIZONTAL_DATUM: NAD27
XY_ORIGIN: 280799.00000 5334670.00000
SECONDARY_XY_ORIGIN: 280842.44800 5334449.65200
NATION: US
NATION: "SCIENCE
STATE: MT
NW_QUAD_CORNER_XY: 281415.90800 5334367.57700
NE_QUAD_CORNER_XY: 286066.20600 5334191.78900
SE_QUAD_CORNERY_XY: 285806.59900 5327245.99600
SW_QUAD_CORNER_XY: 281150.65000 5327421.82600
SECONDARY_NW_QUAD_XY: 281409.01000 5334148.80000
SECONDARY_NE_QUAD_XY: 286059.45500 5333973.00600
SECONDARY_SE_QUAD_XY: 285799.84900 5327027.22700
SECONDARY_SW_QUAD_XY: 281143.75300 5327203.06200
RMSE_XY: 0.70000
IMAGE_SOURCE: BLACK AND WHITE FILM
SOURCE_IMAGE_ID: NAPP 9132 093
SOURCE_IMAGE_DATE: 1996 07 29
SOURCE_DEM_DATE: 1984 00 00
AGENCY: WESTERN MAPPING CENTER (WMC)
PRODUCER: UNDEFINED
PRODUCTION_SYSTEM: GIS/MAGIC
COMPRESSION: UNDEFINED
STANDARD_VERSION: 1996 12
METADATA_DATE: 2000 11 15
DATA_FILE_SIZE: 43037232
BYTE_COUNT: 5569
