FILENAME: O4810757.NWS.1112655.tif
QUADRANGLE_NAME: BUTTON BUTTE
QUADRANT: NW
WEST_LONGITUDE: -108 0 0.00000
EAST_LONGITUDE: -107 56 15.00000
NORTH_LATITUDE: 48 7 30.00000
SOUTH_LATITUDE: 48 3 45.00000
PRODUCTION_DATE: 2000 11 3
RASTER_ORDER: LEFT_RIGHT/TOP_BOTTOM
BAND_ORGANIZATION: SINGLE FILE
BAND_CONTENT: BLACK&WHITE
BAND_CONTENT: UNDEFINED
BAND_CONTENT: UNDEFINED
BITS_PER_PIXEL: 8
SAMPLES_AND_LINES: 5574 7730
HORIZONTAL_DATUM: NAD83
HORIZONTAL_COORDINATE_SYSTEM: UTM
COORDINATE_ZONE: 13
HORIZONTAL_UNITS: METERS
HORIZONTAL_RESOLUTION: 1.00000
SECONDARY_HORIZONTAL_DATUM: NAD27
XY_ORIGIN: 276143.00000 5334849.00000
SECONDARY_XY_ORIGIN: 276186.45800 5334628.60700
NATION: US
NATION: "SCIENCE
STATE: MT
NW_QUAD_CORNER_XY: 276765.63800 5334547.15100
NE_QUAD_CORNER_XY: 281415.90800 5334367.57700
SE_QUAD_CORNERY_XY: 281150.65000 5327421.82600
SW_QUAD_CORNER_XY: 276494.72800 5327601.44300
SECONDARY_NW_QUAD_XY: 276758.59400 5334328.38000
SECONDARY_NE_QUAD_XY: 281409.01000 5334148.80000
SECONDARY_SE_QUAD_XY: 281143.75300 5327203.06200
SECONDARY_SW_QUAD_XY: 276487.68400 5327382.68500
RMSE_XY: 1.10000
IMAGE_SOURCE: BLACK AND WHITE FILM
SOURCE_IMAGE_ID: NAPP 9132 203
SOURCE_IMAGE_DATE: 1996 07 29
SOURCE_DEM_DATE: 1984 00 00
AGENCY: WESTERN MAPPING CENTER (WMC)
PRODUCER: UNDEFINED
PRODUCTION_SYSTEM: GIS/MAGIC
COMPRESSION: UNDEFINED
STANDARD_VERSION: 1996 12
METADATA_DATE: 2000 11 15
DATA_FILE_SIZE: 43092594
BYTE_COUNT: 5574
