FILENAME: O4810755.SES.1137105.tif
QUADRANGLE_NAME: CHRISTMAS RESERVOIR
QUADRANT: SE
WEST_LONGITUDE: -107 11 15.00000
EAST_LONGITUDE: -107 7 30.00000
NORTH_LATITUDE: 48 11 15.00000
SOUTH_LATITUDE: 48 7 30.00000
PRODUCTION_DATE: 2001 3 1
RASTER_ORDER: LEFT_RIGHT/TOP_BOTTOM
BAND_ORGANIZATION: SINGLE FILE
BAND_CONTENT: BLACK&WHITE
BAND_CONTENT: UNDEFINED
BAND_CONTENT: UNDEFINED
BITS_PER_PIXEL: 8
SAMPLES_AND_LINES: 5501 7690
HORIZONTAL_DATUM: NAD83
HORIZONTAL_COORDINATE_SYSTEM: UTM
COORDINATE_ZONE: 13
HORIZONTAL_UNITS: meters
HORIZONTAL_RESOLUTION: 1.00000
SECONDARY_HORIZONTAL_DATUM: NAD27
XY_ORIGIN: 336868.00000 5339762.00000
SECONDARY_XY_ORIGIN: 336910.31100 5339541.32400
NATION: US
STATE: MT
NW_QUAD_CORNER_XY: 337418.83900 5339454.15300
NE_QUAD_CORNER_XY: 342063.77700 5339323.80300
SE_QUAD_CORNERY_XY: 341871.76600 5332377.51900
SW_QUAD_CORNER_XY: 337221.17600 5332507.90000
SECONDARY_NW_QUAD_XY: 337413.70200 5339235.30500
SECONDARY_NE_QUAD_XY: 342058.78700 5339104.95100
SECONDARY_SE_QUAD_XY: 341866.77600 5332158.67900
SECONDARY_SW_QUAD_XY: 337216.04000 5332289.06400
RMSE_XY: 2.17000
IMAGE_SOURCE: BLACK AND WHITE FILM
SOURCE_IMAGE_ID: NAPP 9101-204
SOURCE_IMAGE_DATE: 1996 7 15
SOURCE_DEM_DATE: 1998 0 0
AGENCY: WESTERN MAPPING CENTER (WMC)
PRODUCER: WOOLPERT LLP
PRODUCTION_SYSTEM: INTERGRAPH ISPM, ISIR
COMPRESSION: UNDEFINED
STANDARD_VERSION: 1996 12
METADATA_DATE: 2001 3 1
DATA_FILE_SIZE: 42308191
BYTE_COUNT: 5501
