FILENAME: O4810754.SWS.1116601.tif
QUADRANGLE_NAME: FLAT COULEE
QUADRANT: SW
WEST_LONGITUDE: -107 22 30.00000
EAST_LONGITUDE: -107 18 45.00000
NORTH_LATITUDE: 48 11 15.00000
SOUTH_LATITUDE: 48 7 30.00000
PRODUCTION_DATE: 2000 11 7
RASTER_ORDER: LEFT_RIGHT/TOP_BOTTOM
BAND_ORGANIZATION: SINGLE FILE
BAND_CONTENT: BLACK&WHITE
BAND_CONTENT: UNDEFINED
BAND_CONTENT: UNDEFINED
BITS_PER_PIXEL: 8
SAMPLES_AND_LINES: 5512 7692
HORIZONTAL_DATUM: NAD83
HORIZONTAL_COORDINATE_SYSTEM: UTM
COORDINATE_ZONE: 13
HORIZONTAL_UNITS: METERS
HORIZONTAL_RESOLUTION: 1.00000
SECONDARY_HORIZONTAL_DATUM: NAD27
XY_ORIGIN: 322919.00000 5340170.00000
SECONDARY_XY_ORIGIN: 322961.89200 5339949.80200
NATION: US
NATION: "SCIENCE
STATE: MT
NW_QUAD_CORNER_XY: 323484.15500 5339867.89300
NE_QUAD_CORNER_XY: 328129.02700 5339726.19800
SE_QUAD_CORNERY_XY: 327920.06000 5332780.00900
SW_QUAD_CORNER_XY: 323269.53400 5332921.73800
SECONDARY_NW_QUAD_XY: 323478.57900 5339649.05700
SECONDARY_NE_QUAD_XY: 328123.59700 5339507.35800
SECONDARY_SE_QUAD_XY: 327914.63000 5332561.18200
SECONDARY_SW_QUAD_XY: 323263.95800 5332702.91600
RMSE_XY: 1.20000
IMAGE_SOURCE: BLACK AND WHITE FILM
SOURCE_IMAGE_ID: NAPP 9127 087
SOURCE_IMAGE_DATE: 1996 07 15
SOURCE_IMAGE_ID: NAPP 9127 086
SOURCE_IMAGE_DATE: 1996 07 15
SOURCE_DEM_DATE: 1977 00 00
AGENCY: WESTERN MAPPING CENTER (WMC)
PRODUCER: UNDEFINED
PRODUCTION_SYSTEM: GIS/MAGIC
COMPRESSION: UNDEFINED
STANDARD_VERSION: 1996 12
METADATA_DATE: 2000 11 15
DATA_FILE_SIZE: 42403816
BYTE_COUNT: 5512
