FILENAME: O4810753.NWS.1116559.tif
QUADRANGLE_NAME: HARB
QUADRANT: NW
WEST_LONGITUDE: -107 30 0.00000
EAST_LONGITUDE: -107 26 15.00000
NORTH_LATITUDE: 48 15 0.00000
SOUTH_LATITUDE: 48 11 15.00000
PRODUCTION_DATE: 2000 11 7
RASTER_ORDER: LEFT_RIGHT/TOP_BOTTOM
BAND_ORGANIZATION: SINGLE FILE
BAND_CONTENT: BLACK&WHITE
BAND_CONTENT: UNDEFINED
BAND_CONTENT: UNDEFINED
BITS_PER_PIXEL: 8
SAMPLES_AND_LINES: 5517 7699
HORIZONTAL_DATUM: NAD83
HORIZONTAL_COORDINATE_SYSTEM: UTM
COORDINATE_ZONE: 13
HORIZONTAL_UNITS: METERS
HORIZONTAL_RESOLUTION: 1.00000
SECONDARY_HORIZONTAL_DATUM: NAD27
XY_ORIGIN: 313844.00000 5347410.00000
SECONDARY_XY_ORIGIN: 313887.17600 5347190.20300
NATION: US
NATION: "SCIENCE
STATE: MT
NW_QUAD_CORNER_XY: 314420.63300 5347108.77500
NE_QUAD_CORNER_XY: 319059.79800 5346959.55200
SE_QUAD_CORNERY_XY: 318839.30700 5340013.37000
SW_QUAD_CORNER_XY: 314194.48200 5340162.63000
SECONDARY_NW_QUAD_XY: 314414.76200 5346889.93700
SECONDARY_NE_QUAD_XY: 319054.07400 5346740.70900
SECONDARY_SE_QUAD_XY: 318833.58300 5339794.53900
SECONDARY_SW_QUAD_XY: 314188.61100 5339943.80400
RMSE_XY: 1.20000
IMAGE_SOURCE: BLACK AND WHITE FILM
SOURCE_IMAGE_ID: NAPP 9127 195
SOURCE_IMAGE_DATE: 1996 07 15
SOURCE_DEM_DATE: 1977 00 00
AGENCY: WESTERN MAPPING CENTER (WMC)
PRODUCER: UNDEFINED
PRODUCTION_SYSTEM: GIS/MAGIC
COMPRESSION: UNDEFINED
STANDARD_VERSION: 1996 12
METADATA_DATE: 2000 11 15
DATA_FILE_SIZE: 42480900
BYTE_COUNT: 5517
