FILENAME: O4810752.NWS.1116715.tif
QUADRANGLE_NAME: JOHNSON DAM
QUADRANT: NW
WEST_LONGITUDE: -107 37 30.00000
EAST_LONGITUDE: -107 33 45.00000
NORTH_LATITUDE: 48 15 0.00000
SOUTH_LATITUDE: 48 11 15.00000
PRODUCTION_DATE: 2000 11 7
RASTER_ORDER: LEFT_RIGHT/TOP_BOTTOM
BAND_ORGANIZATION: SINGLE FILE
BAND_CONTENT: BLACK&WHITE
BAND_CONTENT: UNDEFINED
BAND_CONTENT: UNDEFINED
BITS_PER_PIXEL: 8
SAMPLES_AND_LINES: 5529 7707
HORIZONTAL_DATUM: NAD83
HORIZONTAL_COORDINATE_SYSTEM: UTM
COORDINATE_ZONE: 13
HORIZONTAL_UNITS: METERS
HORIZONTAL_RESOLUTION: 1.00000
SECONDARY_HORIZONTAL_DATUM: NAD27
XY_ORIGIN: 304554.00000 5347720.00000
SECONDARY_XY_ORIGIN: 304597.22300 5347499.97400
NATION: US
NATION: "SCIENCE
STATE: MT
NW_QUAD_CORNER_XY: 305142.37800 5347418.56700
NE_QUAD_CORNER_XY: 309781.49300 5347261.78000
SE_QUAD_CORNERY_XY: 309549.68100 5340315.67200
SW_QUAD_CORNER_XY: 304904.90600 5340472.49800
SECONDARY_NW_QUAD_XY: 305136.21300 5347199.73900
SECONDARY_NE_QUAD_XY: 309775.47500 5347042.94700
SECONDARY_SE_QUAD_XY: 309543.66400 5340096.85100
SECONDARY_SW_QUAD_XY: 304898.74200 5340253.68200
RMSE_XY: 1.50000
IMAGE_SOURCE: BLACK AND WHITE FILM
SOURCE_IMAGE_ID: NAPP 9125 017
SOURCE_IMAGE_DATE: 1996 06 20
SOURCE_DEM_DATE: 1977 00 00
AGENCY: WESTERN MAPPING CENTER (WMC)
PRODUCER: UNDEFINED
PRODUCTION_SYSTEM: GIS/MAGIC
COMPRESSION: UNDEFINED
STANDARD_VERSION: 1996 12
METADATA_DATE: 2000 11 15
DATA_FILE_SIZE: 42617532
BYTE_COUNT: 5529
