FILENAME: O4810752.SWS.1116717.tif
QUADRANGLE_NAME: JOHNSON DAM
QUADRANT: SW
WEST_LONGITUDE: -107 37 30.00000
EAST_LONGITUDE: -107 33 45.00000
NORTH_LATITUDE: 48 11 15.00000
SOUTH_LATITUDE: 48 7 30.00000
PRODUCTION_DATE: 2000 11 7
RASTER_ORDER: LEFT_RIGHT/TOP_BOTTOM
BAND_ORGANIZATION: SINGLE FILE
BAND_CONTENT: BLACK&WHITE
BAND_CONTENT: UNDEFINED
BAND_CONTENT: UNDEFINED
BITS_PER_PIXEL: 8
SAMPLES_AND_LINES: 5534 7707
HORIZONTAL_DATUM: NAD83
HORIZONTAL_COORDINATE_SYSTEM: UTM
COORDINATE_ZONE: 13
HORIZONTAL_UNITS: METERS
HORIZONTAL_RESOLUTION: 1.00000
SECONDARY_HORIZONTAL_DATUM: NAD27
XY_ORIGIN: 304317.00000 5340774.00000
SECONDARY_XY_ORIGIN: 304360.30200 5340553.93600
NATION: US
NATION: "SCIENCE
STATE: MT
NW_QUAD_CORNER_XY: 304904.90600 5340472.49800
NE_QUAD_CORNER_XY: 309549.68100 5340315.67200
SE_QUAD_CORNERY_XY: 309318.09800 5333369.62500
SW_QUAD_CORNER_XY: 304667.66800 5333526.48900
SECONDARY_NW_QUAD_XY: 304898.74200 5340253.68200
SECONDARY_NE_QUAD_XY: 309543.66400 5340096.85100
SECONDARY_SE_QUAD_XY: 309312.08100 5333150.81700
SECONDARY_SW_QUAD_XY: 304661.50400 5333307.68500
RMSE_XY: 0.80000
IMAGE_SOURCE: BLACK AND WHITE FILM
SOURCE_IMAGE_ID: NAPP 9125 015
SOURCE_IMAGE_DATE: 1996 06 20
SOURCE_DEM_DATE: 1977 00 00
AGENCY: WESTERN MAPPING CENTER (WMC)
PRODUCER: UNDEFINED
PRODUCTION_SYSTEM: GIS/MAGIC
COMPRESSION: UNDEFINED
STANDARD_VERSION: 1996 12
METADATA_DATE: 2000 11 15
DATA_FILE_SIZE: 42656072
BYTE_COUNT: 5534
