FILENAME: O4810751.NES.1116662.tif
QUADRANGLE_NAME: CONTENT NW
QUADRANT: NE
WEST_LONGITUDE: -107 41 15.00000
EAST_LONGITUDE: -107 37 30.00000
NORTH_LATITUDE: 48 15 0.00000
SOUTH_LATITUDE: 48 11 15.00000
PRODUCTION_DATE: 2000 11 2
RASTER_ORDER: LEFT_RIGHT/TOP_BOTTOM
BAND_ORGANIZATION: SINGLE FILE
BAND_CONTENT: BLACK&WHITE
BAND_CONTENT: UNDEFINED
BAND_CONTENT: UNDEFINED
BITS_PER_PIXEL: 8
SAMPLES_AND_LINES: 5535 7711
HORIZONTAL_DATUM: NAD83
HORIZONTAL_COORDINATE_SYSTEM: UTM
COORDINATE_ZONE: 13
HORIZONTAL_UNITS: METERS
HORIZONTAL_RESOLUTION: 1.00000
SECONDARY_HORIZONTAL_DATUM: NAD27
XY_ORIGIN: 299909.00000 5347881.00000
SECONDARY_XY_ORIGIN: 299952.25600 5347660.87000
NATION: US
NATION: "SCIENCE
STATE: MT
NW_QUAD_CORNER_XY: 300503.28900 5347579.13700
NE_QUAD_CORNER_XY: 305142.37800 5347418.56700
SE_QUAD_CORNERY_XY: 304904.90600 5340472.49800
SW_QUAD_CORNER_XY: 300260.15600 5340633.10700
SECONDARY_NW_QUAD_XY: 300496.97800 5347360.31400
SECONDARY_NE_QUAD_XY: 305136.21300 5347199.73900
SECONDARY_SE_QUAD_XY: 304898.74200 5340253.68200
SECONDARY_SW_QUAD_XY: 300253.84600 5340414.29600
RMSE_XY: 1.30000
IMAGE_SOURCE: BLACK AND WHITE FILM
SOURCE_IMAGE_ID: NAPP 9131 088
SOURCE_IMAGE_DATE: 1996 07 29
SOURCE_DEM_DATE: 1977 00 00
AGENCY: WESTERN MAPPING CENTER (WMC)
PRODUCER: UNDEFINED
PRODUCTION_SYSTEM: GIS/MAGIC
COMPRESSION: UNDEFINED
STANDARD_VERSION: 1996 12
METADATA_DATE: 2000 11 15
DATA_FILE_SIZE: 42685920
BYTE_COUNT: 5535
