FILENAME: O4810751.SES.1116664.tif
QUADRANGLE_NAME: CONTENT NW
QUADRANT: SE
WEST_LONGITUDE: -107 41 15.00000
EAST_LONGITUDE: -107 37 30.00000
NORTH_LATITUDE: 48 11 15.00000
SOUTH_LATITUDE: 48 7 30.00000
PRODUCTION_DATE: 2000 11 2
RASTER_ORDER: LEFT_RIGHT/TOP_BOTTOM
BAND_ORGANIZATION: SINGLE FILE
BAND_CONTENT: BLACK&WHITE
BAND_CONTENT: UNDEFINED
BAND_CONTENT: UNDEFINED
BITS_PER_PIXEL: 8
SAMPLES_AND_LINES: 5540 7711
HORIZONTAL_DATUM: NAD83
HORIZONTAL_COORDINATE_SYSTEM: UTM
COORDINATE_ZONE: 13
HORIZONTAL_UNITS: METERS
HORIZONTAL_RESOLUTION: 1.00000
SECONDARY_HORIZONTAL_DATUM: NAD27
XY_ORIGIN: 299666.00000 5340935.00000
SECONDARY_XY_ORIGIN: 299709.32700 5340714.85800
NATION: US
NATION: "SCIENCE
STATE: MT
NW_QUAD_CORNER_XY: 300260.15600 5340633.10700
NE_QUAD_CORNER_XY: 304904.90600 5340472.49800
SE_QUAD_CORNERY_XY: 304667.66800 5333526.48900
SW_QUAD_CORNER_XY: 300017.26300 5333687.13600
SECONDARY_NW_QUAD_XY: 300253.84600 5340414.29600
SECONDARY_NE_QUAD_XY: 304898.74200 5340253.68200
SECONDARY_SE_QUAD_XY: 304661.50400 5333307.68500
SECONDARY_SW_QUAD_XY: 300010.95300 5333468.33800
RMSE_XY: 0.80000
IMAGE_SOURCE: BLACK AND WHITE FILM
SOURCE_IMAGE_ID: NAPP 9131 090
SOURCE_IMAGE_DATE: 1996 07 29
SOURCE_DEM_DATE: 1977 00 00
AGENCY: WESTERN MAPPING CENTER (WMC)
PRODUCER: UNDEFINED
PRODUCTION_SYSTEM: GIS/MAGIC
COMPRESSION: UNDEFINED
STANDARD_VERSION: 1996 12
METADATA_DATE: 2000 11 15
DATA_FILE_SIZE: 42724480
BYTE_COUNT: 5540
