FILENAME: O4810750.NWS.1112699.tif
QUADRANGLE_NAME: BENNETT LAKE
QUADRANT: NW
WEST_LONGITUDE: -107 52 30.00000
EAST_LONGITUDE: -107 48 45.00000
NORTH_LATITUDE: 48 15 0.00000
SOUTH_LATITUDE: 48 11 15.00000
PRODUCTION_DATE: 2000 11 2
RASTER_ORDER: LEFT_RIGHT/TOP_BOTTOM
BAND_ORGANIZATION: SINGLE FILE
BAND_CONTENT: BLACK&WHITE
BAND_CONTENT: UNDEFINED
BAND_CONTENT: UNDEFINED
BITS_PER_PIXEL: 8
SAMPLES_AND_LINES: 5553 7723
HORIZONTAL_DATUM: NAD83
HORIZONTAL_COORDINATE_SYSTEM: UTM
COORDINATE_ZONE: 13
HORIZONTAL_UNITS: METERS
HORIZONTAL_RESOLUTION: 1.00000
SECONDARY_HORIZONTAL_DATUM: NAD27
XY_ORIGIN: 285974.00000 5348386.00000
SECONDARY_XY_ORIGIN: 286017.33000 5348165.66500
NATION: US
NATION: "SCIENCE
STATE: MT
NW_QUAD_CORNER_XY: 286586.18700 5348083.54400
NE_QUAD_CORNER_XY: 291225.19300 5347911.62500
SE_QUAD_CORNERY_XY: 290970.73700 5340965.67700
SW_QUAD_CORNER_XY: 286326.06800 5341137.63800
SECONDARY_NW_QUAD_XY: 286579.43500 5347864.73800
SECONDARY_NE_QUAD_XY: 291218.58800 5347692.81300
SECONDARY_SE_QUAD_XY: 290964.13200 5340746.87600
SECONDARY_SW_QUAD_XY: 286319.31700 5340918.84300
RMSE_XY: 0.70000
IMAGE_SOURCE: BLACK AND WHITE FILM
SOURCE_IMAGE_ID: NAPP 9148 109
SOURCE_IMAGE_DATE: 1996 08 27
SOURCE_DEM_DATE: 1977 00 00
AGENCY: WESTERN MAPPING CENTER (WMC)
PRODUCER: UNDEFINED
PRODUCTION_SYSTEM: GIS/MAGIC
COMPRESSION: UNDEFINED
STANDARD_VERSION: 1996 12
METADATA_DATE: 2000 11 15
DATA_FILE_SIZE: 42891372
BYTE_COUNT: 5553
