FILENAME: O4810749.SWS.1112653.tif
QUADRANGLE_NAME: BENNETT LAKE NW
QUADRANT: SW
WEST_LONGITUDE: -108 0 0.00000
EAST_LONGITUDE: -107 56 15.00000
NORTH_LATITUDE: 48 11 15.00000
SOUTH_LATITUDE: 48 7 30.00000
PRODUCTION_DATE: 2000 11 2
RASTER_ORDER: LEFT_RIGHT/TOP_BOTTOM
BAND_ORGANIZATION: SINGLE FILE
BAND_CONTENT: BLACK&WHITE
BAND_CONTENT: UNDEFINED
BAND_CONTENT: UNDEFINED
BITS_PER_PIXEL: 8
SAMPLES_AND_LINES: 5569 7730
HORIZONTAL_DATUM: NAD83
HORIZONTAL_COORDINATE_SYSTEM: UTM
COORDINATE_ZONE: 13
HORIZONTAL_UNITS: METERS
HORIZONTAL_RESOLUTION: 1.00000
SECONDARY_HORIZONTAL_DATUM: NAD27
XY_ORIGIN: 276414.00000 5341795.00000
SECONDARY_XY_ORIGIN: 276457.41500 5341574.58700
NATION: US
NATION: "SCIENCE
STATE: MT
NW_QUAD_CORNER_XY: 277036.81600 5341492.91500
NE_QUAD_CORNER_XY: 281681.42800 5341313.38400
SE_QUAD_CORNERY_XY: 281415.90800 5334367.57700
SW_QUAD_CORNER_XY: 276765.63800 5334547.15100
SECONDARY_NW_QUAD_XY: 277029.77100 5341274.13200
SECONDARY_NE_QUAD_XY: 281674.53000 5341094.59500
SECONDARY_SE_QUAD_XY: 281409.01000 5334148.80000
SECONDARY_SW_QUAD_XY: 276758.59400 5334328.38000
RMSE_XY: 0.90000
IMAGE_SOURCE: BLACK AND WHITE FILM
SOURCE_IMAGE_ID: NAPP 9132 205
SOURCE_IMAGE_DATE: 1996 07 29
SOURCE_DEM_DATE: 1984 00 00
AGENCY: WESTERN MAPPING CENTER (WMC)
PRODUCER: UNDEFINED
PRODUCTION_SYSTEM: GIS/MAGIC
COMPRESSION: UNDEFINED
STANDARD_VERSION: 1996 12
METADATA_DATE: 2000 11 15
DATA_FILE_SIZE: 43053939
BYTE_COUNT: 5569
