FILENAME: O4810748.NES.1137111.tif
QUADRANGLE_NAME: HINSDALE SE
QUADRANT: NE
WEST_LONGITUDE: -107 3 45.00000
EAST_LONGITUDE: -107 0 0.00000
NORTH_LATITUDE: 48 22 30.00000
SOUTH_LATITUDE: 48 18 45.00000
PRODUCTION_DATE: 2001 3 21
RASTER_ORDER: LEFT_RIGHT/TOP_BOTTOM
BAND_ORGANIZATION: SINGLE FILE
BAND_CONTENT: BLACK&WHITE
BAND_CONTENT: UNDEFINED
BAND_CONTENT: UNDEFINED
BITS_PER_PIXEL: 8
SAMPLES_AND_LINES: 5472 7682
HORIZONTAL_DATUM: NAD83
HORIZONTAL_COORDINATE_SYSTEM: UTM
COORDINATE_ZONE: 13
HORIZONTAL_UNITS: meters
HORIZONTAL_RESOLUTION: 1.00000
SECONDARY_HORIZONTAL_DATUM: NAD27
XY_ORIGIN: 346730.00000 5360344.00000
SECONDARY_XY_ORIGIN: 346771.42800 5360122.84400
NATION: US
STATE: MT
NW_QUAD_CORNER_XY: 347268.91500 5360036.57500
NE_QUAD_CORNER_XY: 351896.90700 5359913.87900
SE_QUAD_CORNERY_XY: 351715.66500 5352967.33500
SW_QUAD_CORNER_XY: 347082.00500 5353090.06200
SECONDARY_NW_QUAD_XY: 347264.07100 5359817.68600
SECONDARY_NE_QUAD_XY: 351892.21000 5359694.98600
SECONDARY_SE_QUAD_XY: 351710.96800 5352748.45100
SECONDARY_SW_QUAD_XY: 347077.16100 5352871.18300
RMSE_XY: 2.26000
IMAGE_SOURCE: BLACK AND WHITE FILM
SOURCE_IMAGE_ID: NAPP 9101-086
SOURCE_IMAGE_DATE: 1996 7 15
SOURCE_IMAGE_ID: NAPP 9101-085
SOURCE_IMAGE_DATE: 1996 7 15
SOURCE_IMAGE_ID: NAPP 9101-154
SOURCE_IMAGE_DATE: 1996 7 15
SOURCE_DEM_DATE: 1998 0 0
AGENCY: WESTERN MAPPING CENTER (WMC)
PRODUCER: WOOLPERT LLP
PRODUCTION_SYSTEM: INTERGRAPH ISPM, ISIR
COMPRESSION: UNDEFINED
STANDARD_VERSION: 1996 12
METADATA_DATE: 2001 4 3
DATA_FILE_SIZE: 42041376
BYTE_COUNT: 5472
