FILENAME: O4810748.SES.1137113.tif
QUADRANGLE_NAME: HINSDALE SE
QUADRANT: SE
WEST_LONGITUDE: -107 3 45.00000
EAST_LONGITUDE: -107 0 0.00000
NORTH_LATITUDE: 48 18 45.00000
SOUTH_LATITUDE: 48 15 0.00000
PRODUCTION_DATE: 2001 3 21
RASTER_ORDER: LEFT_RIGHT/TOP_BOTTOM
BAND_ORGANIZATION: SINGLE FILE
BAND_CONTENT: BLACK&WHITE
BAND_CONTENT: UNDEFINED
BAND_CONTENT: UNDEFINED
BITS_PER_PIXEL: 8
SAMPLES_AND_LINES: 5478 7683
HORIZONTAL_DATUM: NAD83
HORIZONTAL_COORDINATE_SYSTEM: UTM
COORDINATE_ZONE: 13
HORIZONTAL_UNITS: meters
HORIZONTAL_RESOLUTION: 1.00000
SECONDARY_HORIZONTAL_DATUM: NAD27
XY_ORIGIN: 346543.00000 5353398.00000
SECONDARY_XY_ORIGIN: 346584.60200 5353176.90400
NATION: US
STATE: MT
NW_QUAD_CORNER_XY: 347082.00500 5353090.06200
NE_QUAD_CORNER_XY: 351715.66500 5352967.33500
SE_QUAD_CORNERY_XY: 351534.60000 5346020.85700
SW_QUAD_CORNER_XY: 346895.27800 5346143.61500
SECONDARY_NW_QUAD_XY: 347077.16100 5352871.18300
SECONDARY_NE_QUAD_XY: 351710.96800 5352748.45100
SECONDARY_SE_QUAD_XY: 351529.90400 5345801.98500
SECONDARY_SW_QUAD_XY: 346890.43500 5345924.74700
RMSE_XY: 2.23000
IMAGE_SOURCE: BLACK AND WHITE FILM
SOURCE_IMAGE_ID: NAPP 9101-088
SOURCE_IMAGE_DATE: 1996 7 15
SOURCE_DEM_DATE: 1998 0 0
AGENCY: WESTERN MAPPING CENTER (WMC)
PRODUCER: WOOLPERT LLP
PRODUCTION_SYSTEM: INTERGRAPH ISPM, ISIR
COMPRESSION: UNDEFINED
STANDARD_VERSION: 1996 12
METADATA_DATE: 2001 3 21
DATA_FILE_SIZE: 42092952
BYTE_COUNT: 5478
