FILENAME: O4810747.NWS.1137100.tif
QUADRANGLE_NAME: ASHFORD COULEE
QUADRANT: NW
WEST_LONGITUDE: -107 15 0.00000
EAST_LONGITUDE: -107 11 15.00000
NORTH_LATITUDE: 48 22 30.00000
SOUTH_LATITUDE: 48 18 45.00000
PRODUCTION_DATE: 2001 3 1
RASTER_ORDER: LEFT_RIGHT/TOP_BOTTOM
BAND_ORGANIZATION: SINGLE FILE
BAND_CONTENT: BLACK&WHITE
BAND_CONTENT: UNDEFINED
BAND_CONTENT: UNDEFINED
BITS_PER_PIXEL: 8
SAMPLES_AND_LINES: 5490 7694
HORIZONTAL_DATUM: NAD83
HORIZONTAL_COORDINATE_SYSTEM: UTM
COORDINATE_ZONE: 13
HORIZONTAL_UNITS: meters
HORIZONTAL_RESOLUTION: 1.00000
SECONDARY_HORIZONTAL_DATUM: NAD27
XY_ORIGIN: 332828.00000 5360735.00000
SECONDARY_XY_ORIGIN: 332869.96400 5360514.43800
NATION: US
STATE: MT
NW_QUAD_CORNER_XY: 333385.06900 5360427.33400
NE_QUAD_CORNER_XY: 338012.99500 5360293.30300
SE_QUAD_CORNERY_XY: 337814.74800 5353346.85500
SW_QUAD_CORNER_XY: 333181.15300 5353480.92000
SECONDARY_NW_QUAD_XY: 333379.78400 5360208.45700
SECONDARY_NE_QUAD_XY: 338007.85700 5360074.42100
SECONDARY_SE_QUAD_XY: 337809.61100 5353127.98400
SECONDARY_SW_QUAD_XY: 333175.86900 5353262.05300
RMSE_XY: 2.47000
IMAGE_SOURCE: BLACK AND WHITE FILM
SOURCE_IMAGE_ID: NAPP 9101-269
SOURCE_IMAGE_DATE: 1996 7 15
SOURCE_IMAGE_ID: NAPP 9101-268
SOURCE_IMAGE_DATE: 1996 7 15
SOURCE_DEM_DATE: 1998 0 0
AGENCY: WESTERN MAPPING CENTER (WMC)
PRODUCER: WOOLPERT LLP
PRODUCTION_SYSTEM: INTERGRAPH ISPM, ISIR
COMPRESSION: UNDEFINED
STANDARD_VERSION: 1996 12
METADATA_DATE: 2001 4 3
DATA_FILE_SIZE: 42245550
BYTE_COUNT: 5490
