FILENAME: O4810741.NWS.1112667.tif
QUADRANGLE_NAME: MALTA WEST
QUADRANT: NW
WEST_LONGITUDE: -108 0 0.00000
EAST_LONGITUDE: -107 56 15.00000
NORTH_LATITUDE: 48 22 30.00000
SOUTH_LATITUDE: 48 18 45.00000
PRODUCTION_DATE: 2000 11 6
RASTER_ORDER: LEFT_RIGHT/TOP_BOTTOM
BAND_ORGANIZATION: SINGLE FILE
BAND_CONTENT: BLACK&WHITE
BAND_CONTENT: UNDEFINED
BAND_CONTENT: UNDEFINED
BITS_PER_PIXEL: 8
SAMPLES_AND_LINES: 5553 7730
HORIZONTAL_DATUM: NAD83
HORIZONTAL_COORDINATE_SYSTEM: UTM
COORDINATE_ZONE: 13
HORIZONTAL_UNITS: METERS
HORIZONTAL_RESOLUTION: 1.00000
SECONDARY_HORIZONTAL_DATUM: NAD27
XY_ORIGIN: 277228.00000 5362633.00000
SECONDARY_XY_ORIGIN: 277271.09700 5362412.45400
NATION: US
NATION: "SCIENCE
STATE: MT
NW_QUAD_CORNER_XY: 277851.95000 5362330.53800
NE_QUAD_CORNER_XY: 282479.55500 5362151.14200
SE_QUAD_CORNERY_XY: 282213.25200 5355205.16700
SW_QUAD_CORNER_XY: 277579.97200 5355384.60900
SECONDARY_NW_QUAD_XY: 277844.90400 5362111.72200
SECONDARY_NE_QUAD_XY: 282472.65500 5361932.32000
SECONDARY_SE_QUAD_XY: 282206.35300 5354986.35500
SECONDARY_SW_QUAD_XY: 277572.92700 5355165.80200
RMSE_XY: 1.30000
IMAGE_SOURCE: BLACK AND WHITE FILM
SOURCE_IMAGE_ID: NAPP 9132 211
SOURCE_IMAGE_DATE: 1996 07 29
SOURCE_DEM_DATE: 1967 00 00
AGENCY: WESTERN MAPPING CENTER (WMC)
PRODUCER: UNDEFINED
PRODUCTION_SYSTEM: GIS/MAGIC
COMPRESSION: UNDEFINED
STANDARD_VERSION: 1996 12
METADATA_DATE: 2000 11 15
DATA_FILE_SIZE: 42930243
BYTE_COUNT: 5553
