FILENAME: O4810741.SES.1112668.tif
QUADRANGLE_NAME: MALTA WEST
QUADRANT: SE
WEST_LONGITUDE: -107 56 15.00000
EAST_LONGITUDE: -107 52 30.00000
NORTH_LATITUDE: 48 18 45.00000
SOUTH_LATITUDE: 48 15 0.00000
PRODUCTION_DATE: 2000 11 2
RASTER_ORDER: LEFT_RIGHT/TOP_BOTTOM
BAND_ORGANIZATION: SINGLE FILE
BAND_CONTENT: BLACK&WHITE
BAND_CONTENT: UNDEFINED
BAND_CONTENT: UNDEFINED
BITS_PER_PIXEL: 8
SAMPLES_AND_LINES: 5553 7726
HORIZONTAL_DATUM: NAD83
HORIZONTAL_COORDINATE_SYSTEM: UTM
COORDINATE_ZONE: 13
HORIZONTAL_UNITS: METERS
HORIZONTAL_RESOLUTION: 1.00000
SECONDARY_HORIZONTAL_DATUM: NAD27
XY_ORIGIN: 281595.00000 5355507.00000
SECONDARY_XY_ORIGIN: 281638.19300 5355286.56200
NATION: US
NATION: "SCIENCE
STATE: MT
NW_QUAD_CORNER_XY: 282213.25200 5355205.16700
NE_QUAD_CORNER_XY: 286846.56100 5355029.50800
SE_QUAD_CORNERY_XY: 286586.18700 5348083.54400
SW_QUAD_CORNER_XY: 281947.20900 5348259.24700
SECONDARY_NW_QUAD_XY: 282206.35300 5354986.35500
SECONDARY_NE_QUAD_XY: 286839.80800 5354810.69000
SECONDARY_SE_QUAD_XY: 286579.43500 5347864.73800
SECONDARY_SW_QUAD_XY: 281940.31100 5348040.44600
RMSE_XY: 0.80000
IMAGE_SOURCE: BLACK AND WHITE FILM
SOURCE_IMAGE_ID: NAPP 9148 118
SOURCE_IMAGE_DATE: 1996 08 27
SOURCE_DEM_DATE: 1967 00 00
AGENCY: WESTERN MAPPING CENTER (WMC)
PRODUCER: UNDEFINED
PRODUCTION_SYSTEM: GIS/MAGIC
COMPRESSION: UNDEFINED
STANDARD_VERSION: 1996 12
METADATA_DATE: 2000 11 15
DATA_FILE_SIZE: 42908031
BYTE_COUNT: 5553
