FILENAME: O4810740.NES.1137087.tif
QUADRANGLE_NAME: HINSDALE
QUADRANT: NE
WEST_LONGITUDE: -107 3 45.00000
EAST_LONGITUDE: -107 0 0.00000
NORTH_LATITUDE: 48 30 0.00000
SOUTH_LATITUDE: 48 26 15.00000
PRODUCTION_DATE: 2001 3 21
RASTER_ORDER: LEFT_RIGHT/TOP_BOTTOM
BAND_ORGANIZATION: SINGLE FILE
BAND_CONTENT: BLACK&WHITE
BAND_CONTENT: UNDEFINED
BAND_CONTENT: UNDEFINED
BITS_PER_PIXEL: 8
SAMPLES_AND_LINES: 5461 7683
HORIZONTAL_DATUM: NAD83
HORIZONTAL_COORDINATE_SYSTEM: UTM
COORDINATE_ZONE: 13
HORIZONTAL_UNITS: meters
HORIZONTAL_RESOLUTION: 1.00000
SECONDARY_HORIZONTAL_DATUM: NAD27
XY_ORIGIN: 347104.00000 5374238.00000
SECONDARY_XY_ORIGIN: 347145.08200 5374016.72200
NATION: US
STATE: MT
NW_QUAD_CORNER_XY: 347643.28300 5373929.80000
NE_QUAD_CORNER_XY: 352259.92300 5373807.16700
SE_QUAD_CORNERY_XY: 352078.32600 5366860.49000
SW_QUAD_CORNER_XY: 347456.00700 5366983.15400
SECONDARY_NW_QUAD_XY: 347638.43900 5373710.89300
SECONDARY_NE_QUAD_XY: 352255.22500 5373588.25600
SECONDARY_SE_QUAD_XY: 352073.62900 5366641.58700
SECONDARY_SW_QUAD_XY: 347451.16300 5366764.25600
RMSE_XY: 2.02000
IMAGE_SOURCE: BLACK AND WHITE FILM
SOURCE_IMAGE_ID: NAPP 9101-082
SOURCE_IMAGE_DATE: 1996 7 15
SOURCE_DEM_DATE: 1996 0 0
AGENCY: WESTERN MAPPING CENTER (WMC)
PRODUCER: WOOLPERT LLP
PRODUCTION_SYSTEM: INTERGRAPH ISPM, ISIR
COMPRESSION: UNDEFINED
STANDARD_VERSION: 1996 12
METADATA_DATE: 2001 3 21
DATA_FILE_SIZE: 41962324
BYTE_COUNT: 5461
