FILENAME: O4810740.NWS.1137088.tif
QUADRANGLE_NAME: HINSDALE
QUADRANT: NW
WEST_LONGITUDE: -107 7 30.00000
EAST_LONGITUDE: -107 3 45.00000
NORTH_LATITUDE: 48 30 0.00000
SOUTH_LATITUDE: 48 26 15.00000
PRODUCTION_DATE: 2001 3 21
RASTER_ORDER: LEFT_RIGHT/TOP_BOTTOM
BAND_ORGANIZATION: SINGLE FILE
BAND_CONTENT: BLACK&WHITE
BAND_CONTENT: UNDEFINED
BAND_CONTENT: UNDEFINED
BITS_PER_PIXEL: 8
SAMPLES_AND_LINES: 5467 7686
HORIZONTAL_DATUM: NAD83
HORIZONTAL_COORDINATE_SYSTEM: UTM
COORDINATE_ZONE: 13
HORIZONTAL_UNITS: meters
HORIZONTAL_RESOLUTION: 1.00000
SECONDARY_HORIZONTAL_DATUM: NAD27
XY_ORIGIN: 342482.00000 5374364.00000
SECONDARY_XY_ORIGIN: 342523.23300 5374142.92300
NATION: US
STATE: MT
NW_QUAD_CORNER_XY: 343026.66500 5374056.20800
NE_QUAD_CORNER_XY: 347643.28300 5373929.80000
SE_QUAD_CORNERY_XY: 347456.00700 5366983.15400
SW_QUAD_CORNER_XY: 342833.71000 5367109.59600
SECONDARY_NW_QUAD_XY: 343021.67400 5373837.30500
SECONDARY_NE_QUAD_XY: 347638.43900 5373710.89300
SECONDARY_SE_QUAD_XY: 347451.16300 5366764.25600
SECONDARY_SW_QUAD_XY: 342828.71900 5366890.70200
RMSE_XY: 1.78000
IMAGE_SOURCE: BLACK AND WHITE FILM
SOURCE_IMAGE_ID: NAPP 9101-157
SOURCE_IMAGE_DATE: 1996 7 15
SOURCE_DEM_DATE: 1996 0 0
AGENCY: WESTERN MAPPING CENTER (WMC)
PRODUCER: WOOLPERT LLP
PRODUCTION_SYSTEM: INTERGRAPH ISPM, ISIR
COMPRESSION: UNDEFINED
STANDARD_VERSION: 1996 12
METADATA_DATE: 2001 3 21
DATA_FILE_SIZE: 42024829
BYTE_COUNT: 5467
