FILENAME: O4810739.SES.1137085.tif
QUADRANGLE_NAME: HINSDALE NW
QUADRANT: SE
WEST_LONGITUDE: -107 11 15.00000
EAST_LONGITUDE: -107 7 30.00000
NORTH_LATITUDE: 48 26 15.00000
SOUTH_LATITUDE: 48 22 30.00000
PRODUCTION_DATE: 2001 3 21
RASTER_ORDER: LEFT_RIGHT/TOP_BOTTOM
BAND_ORGANIZATION: SINGLE FILE
BAND_CONTENT: BLACK&WHITE
BAND_CONTENT: UNDEFINED
BAND_CONTENT: UNDEFINED
BITS_PER_PIXEL: 8
SAMPLES_AND_LINES: 5478 7689
HORIZONTAL_DATUM: NAD83
HORIZONTAL_COORDINATE_SYSTEM: UTM
COORDINATE_ZONE: 13
HORIZONTAL_UNITS: meters
HORIZONTAL_RESOLUTION: 1.00000
SECONDARY_HORIZONTAL_DATUM: NAD27
XY_ORIGIN: 337661.00000 5367547.00000
SECONDARY_XY_ORIGIN: 337702.58500 5367326.18500
NATION: US
STATE: MT
NW_QUAD_CORNER_XY: 338211.43600 5367239.81500
NE_QUAD_CORNER_XY: 342833.71000 5367109.59600
SE_QUAD_CORNERY_XY: 342640.94400 5360163.05000
SW_QUAD_CORNER_XY: 338012.99500 5360293.30300
SECONDARY_NW_QUAD_XY: 338206.29800 5367020.92500
SECONDARY_NE_QUAD_XY: 342828.71900 5366890.70200
SECONDARY_SE_QUAD_XY: 342635.95300 5359944.16400
SECONDARY_SW_QUAD_XY: 338007.85700 5360074.42100
RMSE_XY: 2.26000
IMAGE_SOURCE: BLACK AND WHITE FILM
SOURCE_IMAGE_ID: NAPP 9101-196
SOURCE_IMAGE_DATE: 1996 7 15
SOURCE_IMAGE_ID: NAPP 9101-197
SOURCE_IMAGE_DATE: 1996 7 15
SOURCE_DEM_DATE: 1998 0 0
AGENCY: WESTERN MAPPING CENTER (WMC)
PRODUCER: WOOLPERT LLP
PRODUCTION_SYSTEM: INTERGRAPH ISPM, ISIR
COMPRESSION: UNDEFINED
STANDARD_VERSION: 1996 12
METADATA_DATE: 2001 4 3
DATA_FILE_SIZE: 42125820
BYTE_COUNT: 5478
