FILENAME: O4810738.NWS.1116615.tif
QUADRANGLE_NAME: SACO
QUADRANT: NW
WEST_LONGITUDE: -107 22 30.00000
EAST_LONGITUDE: -107 18 45.00000
NORTH_LATITUDE: 48 30 0.00000
SOUTH_LATITUDE: 48 26 15.00000
PRODUCTION_DATE: 2000 11 10
RASTER_ORDER: LEFT_RIGHT/TOP_BOTTOM
BAND_ORGANIZATION: SINGLE FILE
BAND_CONTENT: BLACK&WHITE
BAND_CONTENT: UNDEFINED
BAND_CONTENT: UNDEFINED
BITS_PER_PIXEL: 8
SAMPLES_AND_LINES: 5482 7693
HORIZONTAL_DATUM: NAD83
HORIZONTAL_COORDINATE_SYSTEM: UTM
COORDINATE_ZONE: 13
HORIZONTAL_UNITS: METERS
HORIZONTAL_RESOLUTION: 1.00000
SECONDARY_HORIZONTAL_DATUM: NAD27
XY_ORIGIN: 323996.00000 5374902.00000
SECONDARY_XY_ORIGIN: 324037.83600 5374681.65100
NATION: US
NATION: "SCIENCE
STATE: MT
NW_QUAD_CORNER_XY: 324560.42700 5374599.60700
NE_QUAD_CORNER_XY: 329176.95000 5374458.09200
SE_QUAD_CORNERY_XY: 328966.95500 5367511.58600
SW_QUAD_CORNER_XY: 324344.75100 5367653.13900
SECONDARY_NW_QUAD_XY: 324554.84900 5374380.72200
SECONDARY_NE_QUAD_XY: 329171.51900 5374239.20200
SECONDARY_SE_QUAD_XY: 328961.52400 5367292.70400
SECONDARY_SW_QUAD_XY: 324339.17300 5367434.26100
RMSE_XY: 1.10000
IMAGE_SOURCE: BLACK AND WHITE FILM
SOURCE_IMAGE_ID: NAPP 9127 097
SOURCE_IMAGE_DATE: 1996 07 15
SOURCE_DEM_DATE: 1977 00 00
AGENCY: WESTERN MAPPING CENTER (WMC)
PRODUCER: UNDEFINED
PRODUCTION_SYSTEM: GIS/MAGIC
COMPRESSION: UNDEFINED
STANDARD_VERSION: 1996 12
METADATA_DATE: 2000 11 15
DATA_FILE_SIZE: 42178508
BYTE_COUNT: 5482
