FILENAME: O4810737.NES.1116574.tif
QUADRANGLE_NAME: ROBINSON RANCH
QUADRANT: NE
WEST_LONGITUDE: -107 26 15.00000
EAST_LONGITUDE: -107 22 30.00000
NORTH_LATITUDE: 48 30 0.00000
SOUTH_LATITUDE: 48 26 15.00000
PRODUCTION_DATE: 2000 11 9
RASTER_ORDER: LEFT_RIGHT/TOP_BOTTOM
BAND_ORGANIZATION: SINGLE FILE
BAND_CONTENT: BLACK&WHITE
BAND_CONTENT: UNDEFINED
BAND_CONTENT: UNDEFINED
BITS_PER_PIXEL: 8
SAMPLES_AND_LINES: 5489 7696
HORIZONTAL_DATUM: NAD83
HORIZONTAL_COORDINATE_SYSTEM: UTM
COORDINATE_ZONE: 13
HORIZONTAL_UNITS: METERS
HORIZONTAL_RESOLUTION: 1.00000
SECONDARY_HORIZONTAL_DATUM: NAD27
XY_ORIGIN: 319373.00000 5375047.00000
SECONDARY_XY_ORIGIN: 319414.98500 5374826.81400
NATION: US
NATION: "SCIENCE
STATE: MT
NW_QUAD_CORNER_XY: 319943.92900 5374744.90000
NE_QUAD_CORNER_XY: 324560.42700 5374599.60700
SE_QUAD_CORNERY_XY: 324344.75100 5367653.13900
SW_QUAD_CORNER_XY: 319722.57200 5367798.47000
SECONDARY_NW_QUAD_XY: 319938.20400 5374526.01900
SECONDARY_NE_QUAD_XY: 324554.84900 5374380.72200
SECONDARY_SE_QUAD_XY: 324339.17300 5367434.26100
SECONDARY_SW_QUAD_XY: 319716.84700 5367579.59700
RMSE_XY: 1.30000
IMAGE_SOURCE: BLACK AND WHITE FILM
SOURCE_IMAGE_ID: NAPP 9127 124
SOURCE_IMAGE_DATE: 1996 07 15
SOURCE_DEM_DATE: 1984 00 00
AGENCY: WESTERN MAPPING CENTER (WMC)
PRODUCER: UNDEFINED
PRODUCTION_SYSTEM: GIS/MAGIC
COMPRESSION: UNDEFINED
STANDARD_VERSION: 1996 12
METADATA_DATE: 2000 11 15
DATA_FILE_SIZE: 42248833
BYTE_COUNT: 5489
