FILENAME: O4810737.SES.1116576.tif
QUADRANGLE_NAME: ROBINSON RANCH
QUADRANT: SE
WEST_LONGITUDE: -107 26 15.00000
EAST_LONGITUDE: -107 22 30.00000
NORTH_LATITUDE: 48 26 15.00000
SOUTH_LATITUDE: 48 22 30.00000
PRODUCTION_DATE: 2000 11 9
RASTER_ORDER: LEFT_RIGHT/TOP_BOTTOM
BAND_ORGANIZATION: SINGLE FILE
BAND_CONTENT: BLACK&WHITE
BAND_CONTENT: UNDEFINED
BAND_CONTENT: UNDEFINED
BITS_PER_PIXEL: 8
SAMPLES_AND_LINES: 5494 7696
HORIZONTAL_DATUM: NAD83
HORIZONTAL_COORDINATE_SYSTEM: UTM
COORDINATE_ZONE: 13
HORIZONTAL_UNITS: METERS
HORIZONTAL_RESOLUTION: 1.00000
SECONDARY_HORIZONTAL_DATUM: NAD27
XY_ORIGIN: 319152.00000 5368100.00000
SECONDARY_XY_ORIGIN: 319194.23300 5367879.86900
NATION: US
NATION: "SCIENCE
STATE: MT
NW_QUAD_CORNER_XY: 319722.57200 5367798.47000
NE_QUAD_CORNER_XY: 324344.75100 5367653.13900
SE_QUAD_CORNERY_XY: 324129.28600 5360706.73300
SW_QUAD_CORNER_XY: 319501.43100 5360852.10100
SECONDARY_NW_QUAD_XY: 319716.84700 5367579.59700
SECONDARY_NE_QUAD_XY: 324339.17300 5367434.26100
SECONDARY_SE_QUAD_XY: 324123.70800 5360487.86500
SECONDARY_SW_QUAD_XY: 319495.70700 5360633.23800
RMSE_XY: 2.00000
IMAGE_SOURCE: BLACK AND WHITE FILM
SOURCE_IMAGE_ID: NAPP 9127 126
SOURCE_IMAGE_DATE: 1996 07 15
SOURCE_IMAGE_ID: NAPP 9127 127
SOURCE_IMAGE_DATE: 1996 07 15
SOURCE_DEM_DATE: 1984 00 00
AGENCY: WESTERN MAPPING CENTER (WMC)
PRODUCER: UNDEFINED
PRODUCTION_SYSTEM: GIS/MAGIC
COMPRESSION: UNDEFINED
STANDARD_VERSION: 1996 12
METADATA_DATE: 2000 11 15
DATA_FILE_SIZE: 42287318
BYTE_COUNT: 5494
