FILENAME: O4810736.NES.1116706.tif
QUADRANGLE_NAME: BOWDOIN
QUADRANT: NE
WEST_LONGITUDE: -107 33 45.00000
EAST_LONGITUDE: -107 30 0.00000
NORTH_LATITUDE: 48 30 0.00000
SOUTH_LATITUDE: 48 26 15.00000
PRODUCTION_DATE: 2000 11 9
RASTER_ORDER: LEFT_RIGHT/TOP_BOTTOM
BAND_ORGANIZATION: SINGLE FILE
BAND_CONTENT: BLACK&WHITE
BAND_CONTENT: UNDEFINED
BAND_CONTENT: UNDEFINED
BITS_PER_PIXEL: 8
SAMPLES_AND_LINES: 5501 7704
HORIZONTAL_DATUM: NAD83
HORIZONTAL_COORDINATE_SYSTEM: UTM
COORDINATE_ZONE: 13
HORIZONTAL_UNITS: METERS
HORIZONTAL_RESOLUTION: 1.00000
SECONDARY_HORIZONTAL_DATUM: NAD27
XY_ORIGIN: 310128.00000 5375349.00000
SECONDARY_XY_ORIGIN: 310170.21100 5375128.85700
NATION: US
NATION: "SCIENCE
STATE: MT
NW_QUAD_CORNER_XY: 310711.01300 5375046.81800
NE_QUAD_CORNER_XY: 315327.45800 5374893.97000
SE_QUAD_CORNERY_XY: 315100.41900 5367947.57900
SW_QUAD_CORNER_XY: 310478.29200 5368100.46800
SECONDARY_NW_QUAD_XY: 310704.99400 5374827.94700
SECONDARY_NE_QUAD_XY: 315321.58600 5374675.09400
SECONDARY_SE_QUAD_XY: 315094.54700 5367728.71100
SECONDARY_SW_QUAD_XY: 310472.27300 5367881.60400
RMSE_XY: 0.80000
IMAGE_SOURCE: BLACK AND WHITE FILM
SOURCE_IMAGE_ID: NAPP 9127 214
SOURCE_IMAGE_DATE: 1996 07 15
SOURCE_IMAGE_ID: NAPP 9127 215
SOURCE_IMAGE_DATE: 1996 07 15
SOURCE_DEM_DATE: 1984 00 00
AGENCY: WESTERN MAPPING CENTER (WMC)
PRODUCER: UNDEFINED
PRODUCTION_SYSTEM: GIS/MAGIC
COMPRESSION: UNDEFINED
STANDARD_VERSION: 1996 12
METADATA_DATE: 2000 11 15
DATA_FILE_SIZE: 42385205
BYTE_COUNT: 5501
