FILENAME: O4810732.NES.1160082.tif
QUADRANGLE_NAME: JONES COULEE
QUADRANT: NE
WEST_LONGITUDE: -107 3 45.00000
EAST_LONGITUDE: -107 0 0.00000
NORTH_LATITUDE: 48 37 30.00000
SOUTH_LATITUDE: 48 33 45.00000
PRODUCTION_DATE: 2001 8 23
RASTER_ORDER: LEFT_RIGHT/TOP_BOTTOM
BAND_ORGANIZATION: SINGLE FILE
BAND_CONTENT: BLACK&WHITE
BAND_CONTENT: UNDEFINED
BAND_CONTENT: UNDEFINED
BITS_PER_PIXEL: 8
SAMPLES_AND_LINES: 5450 7683
HORIZONTAL_DATUM: NAD83
HORIZONTAL_COORDINATE_SYSTEM: UTM
COORDINATE_ZONE: 13
HORIZONTAL_UNITS: meters
HORIZONTAL_RESOLUTION: 1.00000
SECONDARY_HORIZONTAL_DATUM: NAD27
XY_ORIGIN: 347479.00000 5388131.00000
SECONDARY_XY_ORIGIN: 347519.74800 5387909.43700
NATION: US
STATE: MT
NW_QUAD_CORNER_XY: 348018.38200 5387823.28800
NE_QUAD_CORNER_XY: 352623.64700 5387700.72200
SE_QUAD_CORNERY_XY: 352441.69700 5380753.91100
SW_QUAD_CORNER_XY: 347830.74100 5380876.51100
SECONDARY_NW_QUAD_XY: 348013.53700 5387604.36700
SECONDARY_NE_QUAD_XY: 352618.94900 5387481.79700
SECONDARY_SE_QUAD_XY: 352436.99900 5380534.99300
SECONDARY_SW_QUAD_XY: 347825.89700 5380657.59600
RMSE_XY: 3.35000
IMAGE_SOURCE: BLACK AND WHITE FILM
SOURCE_IMAGE_ID: NAPP 9101-078
SOURCE_IMAGE_DATE: 1996 7 15
SOURCE_IMAGE_ID: NAPP 9101-076
SOURCE_IMAGE_DATE: 1996 7 15
SOURCE_DEM_DATE: 1994 0 0
AGENCY: WESTERN MAPPING CENTER (WMC)
PRODUCER: WOOLPERT LLP
PRODUCTION_SYSTEM: INTERGRAPH ISPM, ISIR
COMPRESSION: UNDEFINED
STANDARD_VERSION: 1996 12
METADATA_DATE: 2001 8 23
DATA_FILE_SIZE: 41877800
BYTE_COUNT: 5450
