FILENAME: O4810731.SWS.1116629.tif
QUADRANGLE_NAME: BJORNBERG BRIDGE
QUADRANT: SW
WEST_LONGITUDE: -107 15 0.00000
EAST_LONGITUDE: -107 11 15.00000
NORTH_LATITUDE: 48 33 45.00000
SOUTH_LATITUDE: 48 30 0.00000
PRODUCTION_DATE: 2000 11 10
RASTER_ORDER: LEFT_RIGHT/TOP_BOTTOM
BAND_ORGANIZATION: SINGLE FILE
BAND_CONTENT: BLACK&WHITE
BAND_CONTENT: UNDEFINED
BAND_CONTENT: UNDEFINED
BITS_PER_PIXEL: 8
SAMPLES_AND_LINES: 5465 7685
HORIZONTAL_DATUM: NAD83
HORIZONTAL_COORDINATE_SYSTEM: UTM
COORDINATE_ZONE: 13
HORIZONTAL_UNITS: METERS
HORIZONTAL_RESOLUTION: 1.00000
SECONDARY_HORIZONTAL_DATUM: NAD27
XY_ORIGIN: 333445.00000 5381569.00000
SECONDARY_XY_ORIGIN: 333486.32500 5381348.13100
NATION: US
NATION: "SCIENCE
STATE: MT
NW_QUAD_CORNER_XY: 333998.01200 5381266.96100
NE_QUAD_CORNER_XY: 338608.89800 5381133.03500
SE_QUAD_CORNERY_XY: 338410.07000 5374186.39300
SW_QUAD_CORNER_XY: 333793.49800 5374320.35400
SECONDARY_NW_QUAD_XY: 333992.72700 5381048.05800
SECONDARY_NE_QUAD_XY: 338603.76000 5380914.12900
SECONDARY_SE_QUAD_XY: 338404.93200 5373967.49400
SECONDARY_SW_QUAD_XY: 333788.21300 5374101.45900
RMSE_XY: 1.30000
IMAGE_SOURCE: BLACK AND WHITE FILM
SOURCE_IMAGE_ID: NAPP 9101 275
SOURCE_IMAGE_DATE: 1996 07 15
SOURCE_DEM_DATE: 1974 00 00
AGENCY: WESTERN MAPPING CENTER (WMC)
PRODUCER: UNDEFINED
PRODUCTION_SYSTEM: GIS/MAGIC
COMPRESSION: UNDEFINED
STANDARD_VERSION: 1996 12
METADATA_DATE: 2000 11 30
DATA_FILE_SIZE: 42003990
BYTE_COUNT: 5465
