FILENAME: O4810729.NES.1116570.tif
QUADRANGLE_NAME: COLE
QUADRANT: NE
WEST_LONGITUDE: -107 26 15.00000
EAST_LONGITUDE: -107 22 30.00000
NORTH_LATITUDE: 48 37 30.00000
SOUTH_LATITUDE: 48 33 45.00000
PRODUCTION_DATE: 2000 11 10
RASTER_ORDER: LEFT_RIGHT/TOP_BOTTOM
BAND_ORGANIZATION: SINGLE FILE
BAND_CONTENT: BLACK&WHITE
BAND_CONTENT: UNDEFINED
BAND_CONTENT: UNDEFINED
BITS_PER_PIXEL: 8
SAMPLES_AND_LINES: 5477 7696
HORIZONTAL_DATUM: NAD83
HORIZONTAL_COORDINATE_SYSTEM: UTM
COORDINATE_ZONE: 13
HORIZONTAL_UNITS: METERS
HORIZONTAL_RESOLUTION: 1.00000
SECONDARY_HORIZONTAL_DATUM: NAD27
XY_ORIGIN: 319817.00000 5388940.00000
SECONDARY_XY_ORIGIN: 319858.45800 5388719.33600
NATION: US
NATION: "SCIENCE
STATE: MT
NW_QUAD_CORNER_XY: 320387.29000 5388637.94700
NE_QUAD_CORNER_XY: 324992.40900 5388492.73300
SE_QUAD_CORNERY_XY: 324776.31300 5381546.13900
SW_QUAD_CORNER_XY: 320165.50200 5381691.39300
SECONDARY_NW_QUAD_XY: 320381.56500 5388419.05200
SECONDARY_NE_QUAD_XY: 324986.83000 5388273.83300
SECONDARY_SE_QUAD_XY: 324770.73400 5381327.24600
SECONDARY_SW_QUAD_XY: 320159.77700 5381472.50400
RMSE_XY: 0.90000
IMAGE_SOURCE: BLACK AND WHITE FILM
SOURCE_IMAGE_ID: NAPP 9127 120
SOURCE_IMAGE_DATE: 1996 07 15
SOURCE_DEM_DATE: 1974 00 00
AGENCY: WESTERN MAPPING CENTER (WMC)
PRODUCER: UNDEFINED
PRODUCTION_SYSTEM: GIS/MAGIC
COMPRESSION: UNDEFINED
STANDARD_VERSION: 1996 12
METADATA_DATE: 2000 11 15
DATA_FILE_SIZE: 42156469
BYTE_COUNT: 5477
